| Back to Multiple platform build/check report for BioC 3.8 | 
 | 
This page was generated on 2019-04-16 11:53:34 -0400 (Tue, 16 Apr 2019).
| Package 1324/1649 | Hostname | OS / Arch | INSTALL | BUILD | CHECK | BUILD BIN | ||||||
| Rmmquant 1.0.4 Zytnicki Matthias 
 | malbec1 | Linux (Ubuntu 16.04.6 LTS) / x86_64 | OK | [ OK ] | OK |  | ||||||
| merida1 | OS X 10.11.6 El Capitan / x86_64 | OK | OK | OK | OK |  | 
| Package: Rmmquant | 
| Version: 1.0.4 | 
| Command: /home/biocbuild/bbs-3.8-bioc/R/bin/R CMD build --keep-empty-dirs --no-resave-data Rmmquant | 
| StartedAt: 2019-04-15 21:46:59 -0400 (Mon, 15 Apr 2019) | 
| EndedAt: 2019-04-15 21:48:19 -0400 (Mon, 15 Apr 2019) | 
| EllapsedTime: 80.5 seconds | 
| RetCode: 0 | 
| Status: OK | 
| PackageFile: Rmmquant_1.0.4.tar.gz | 
| PackageFileSize: 44.23 KiB | 
############################################################################## ############################################################################## ### ### Running command: ### ### /home/biocbuild/bbs-3.8-bioc/R/bin/R CMD build --keep-empty-dirs --no-resave-data Rmmquant ### ############################################################################## ############################################################################## * checking for file ‘Rmmquant/DESCRIPTION’ ... OK * preparing ‘Rmmquant’: * checking DESCRIPTION meta-information ... OK * cleaning src * installing the package to build vignettes * creating vignettes ... OK * cleaning src * checking for LF line-endings in source and make files and shell scripts * checking for empty or unneeded directories * building ‘Rmmquant_1.0.4.tar.gz’