| Back to Multiple platform build/check report for BioC 3.8 |
|
This page was generated on 2019-04-16 12:08:44 -0400 (Tue, 16 Apr 2019).
| Package 1354/1649 | Hostname | OS / Arch | INSTALL | BUILD | CHECK | BUILD BIN | ||||||
| RSeqAn 1.2.0 August Guang
| malbec1 | Linux (Ubuntu 16.04.6 LTS) / x86_64 | OK | OK | OK | |||||||
| merida1 | OS X 10.11.6 El Capitan / x86_64 | OK | [ OK ] | OK | OK |
| Package: RSeqAn |
| Version: 1.2.0 |
| Command: /Library/Frameworks/R.framework/Versions/Current/Resources/bin/R CMD build --keep-empty-dirs --no-resave-data RSeqAn |
| StartedAt: 2019-04-15 21:42:20 -0400 (Mon, 15 Apr 2019) |
| EndedAt: 2019-04-15 21:42:39 -0400 (Mon, 15 Apr 2019) |
| EllapsedTime: 19.2 seconds |
| RetCode: 0 |
| Status: OK |
| PackageFile: RSeqAn_1.2.0.tar.gz |
| PackageFileSize: 1.618 MiB |
############################################################################## ############################################################################## ### ### Running command: ### ### /Library/Frameworks/R.framework/Versions/Current/Resources/bin/R CMD build --keep-empty-dirs --no-resave-data RSeqAn ### ############################################################################## ############################################################################## * checking for file ‘RSeqAn/DESCRIPTION’ ... OK * preparing ‘RSeqAn’: * checking DESCRIPTION meta-information ... OK * installing the package to build vignettes * creating vignettes ... OK * checking for LF line-endings in source and make files and shell scripts * checking for empty or unneeded directories * building ‘RSeqAn_1.2.0.tar.gz’