| Back to Multiple platform build/check report for BioC 3.8 |
|
This page was generated on 2019-04-16 12:08:44 -0400 (Tue, 16 Apr 2019).
| Package 1354/1649 | Hostname | OS / Arch | INSTALL | BUILD | CHECK | BUILD BIN | ||||||
| RSeqAn 1.2.0 August Guang
| malbec1 | Linux (Ubuntu 16.04.6 LTS) / x86_64 | OK | OK | OK | |||||||
| merida1 | OS X 10.11.6 El Capitan / x86_64 | OK | OK | OK | [ OK ] |
| Package: RSeqAn |
| Version: 1.2.0 |
| Command: rm -rf RSeqAn.buildbin-libdir && mkdir RSeqAn.buildbin-libdir && /Users/biocbuild/BBS/utils/build-universal.sh RSeqAn_1.2.0.tar.gz /Library/Frameworks/R.framework/Versions/Current/Resources/bin/R RSeqAn.buildbin-libdir |
| StartedAt: 2019-04-16 04:41:02 -0400 (Tue, 16 Apr 2019) |
| EndedAt: 2019-04-16 04:41:32 -0400 (Tue, 16 Apr 2019) |
| EllapsedTime: 30.3 seconds |
| RetCode: 0 |
| Status: OK |
| PackageFile: RSeqAn_1.2.0.tgz |
| PackageFileSize: 1.639 MiB |
############################################################################## ############################################################################## ### ### Running command: ### ### rm -rf RSeqAn.buildbin-libdir && mkdir RSeqAn.buildbin-libdir && /Users/biocbuild/BBS/utils/build-universal.sh RSeqAn_1.2.0.tar.gz /Library/Frameworks/R.framework/Versions/Current/Resources/bin/R RSeqAn.buildbin-libdir ### ############################################################################## ############################################################################## >>>>>>> >>>>>>> INSTALLATION WITH 'R CMD INSTALL --preclean --no-multiarch --library=RSeqAn.buildbin-libdir RSeqAn_1.2.0.tar.gz' >>>>>>> * installing *source* package ‘RSeqAn’ ... ** inst ** help No man pages found in package ‘RSeqAn’ *** installing help indices ** building package indices ** installing vignettes ** testing if installed package can be loaded * DONE (RSeqAn)