| Back to Multiple platform build/check report for BioC 3.8 | 
  | 
This page was generated on 2019-04-13 11:25:44 -0400 (Sat, 13 Apr 2019).
| Package 828/1649 | Hostname | OS / Arch | INSTALL | BUILD | CHECK | BUILD BIN | ||||||
| LedPred 1.16.0 Aitor Gonzalez 
  | malbec1 | Linux (Ubuntu 16.04.6 LTS) / x86_64 | OK | OK | OK | |||||||
| tokay1 | Windows Server 2012 R2 Standard / x64 | OK | OK | OK | [ OK ] | |||||||
| merida1 | OS X 10.11.6 El Capitan / x86_64 | OK | OK | OK | OK | 
| Package: LedPred | 
| Version: 1.16.0 | 
| Command: rm -rf LedPred.buildbin-libdir && mkdir LedPred.buildbin-libdir && C:\Users\biocbuild\bbs-3.8-bioc\R\bin\R.exe CMD INSTALL --merge-multiarch --build --library=LedPred.buildbin-libdir LedPred_1.16.0.tar.gz | 
| StartedAt: 2019-04-13 07:34:21 -0400 (Sat, 13 Apr 2019) | 
| EndedAt: 2019-04-13 07:34:55 -0400 (Sat, 13 Apr 2019) | 
| EllapsedTime: 33.6 seconds | 
| RetCode: 0 | 
| Status: OK | 
| PackageFile: LedPred_1.16.0.zip | 
| PackageFileSize: 1.61 MiB | 
##############################################################################
##############################################################################
###
### Running command:
###
###   rm -rf LedPred.buildbin-libdir && mkdir LedPred.buildbin-libdir && C:\Users\biocbuild\bbs-3.8-bioc\R\bin\R.exe CMD INSTALL --merge-multiarch --build --library=LedPred.buildbin-libdir LedPred_1.16.0.tar.gz
###
##############################################################################
##############################################################################
install for i386
* installing *source* package 'LedPred' ...
** R
** data
*** moving datasets to lazyload DB
** inst
** byte-compile and prepare package for lazy loading
** help
*** installing help indices
  converting help for package 'LedPred'
    finding HTML links ... done
    LedPred                                 html  
    createModel                             html  
    crm.features                            html  
    evaluateModelPerformance                html  
    feature.ranking                         html  
    mapFeaturesToCRMs                       html  
    mcTune                                  html  
    rankFeatures                            html  
    scoreData                               html  
    tuneFeatureNb                           html  
** building package indices
** installing vignettes
** testing if installed package can be loaded
In R CMD INSTALL
install for x64
* installing *source* package 'LedPred' ...
** testing if installed package can be loaded
* MD5 sums
packaged installation of 'LedPred' as LedPred_1.16.0.zip
* DONE (LedPred)
In R CMD INSTALL
In R CMD INSTALL