| Back to Multiple platform build/check report for BioC 3.8 | 
  | 
This page was generated on 2019-04-16 11:58:51 -0400 (Tue, 16 Apr 2019).
| Package 828/1649 | Hostname | OS / Arch | INSTALL | BUILD | CHECK | BUILD BIN | ||||||
| LedPred 1.16.0 Aitor Gonzalez 
  | malbec1 | Linux (Ubuntu 16.04.6 LTS) / x86_64 | OK | OK | OK | |||||||
| merida1 | OS X 10.11.6 El Capitan / x86_64 | OK | OK | OK | [ OK ] | 
| Package: LedPred | 
| Version: 1.16.0 | 
| Command: rm -rf LedPred.buildbin-libdir && mkdir LedPred.buildbin-libdir && /Users/biocbuild/BBS/utils/build-universal.sh LedPred_1.16.0.tar.gz /Library/Frameworks/R.framework/Versions/Current/Resources/bin/R LedPred.buildbin-libdir | 
| StartedAt: 2019-04-16 04:17:00 -0400 (Tue, 16 Apr 2019) | 
| EndedAt: 2019-04-16 04:17:45 -0400 (Tue, 16 Apr 2019) | 
| EllapsedTime: 44.9 seconds | 
| RetCode: 0 | 
| Status: OK | 
| PackageFile: LedPred_1.16.0.tgz | 
| PackageFileSize: 1.602 MiB | 
############################################################################## ############################################################################## ### ### Running command: ### ### rm -rf LedPred.buildbin-libdir && mkdir LedPred.buildbin-libdir && /Users/biocbuild/BBS/utils/build-universal.sh LedPred_1.16.0.tar.gz /Library/Frameworks/R.framework/Versions/Current/Resources/bin/R LedPred.buildbin-libdir ### ############################################################################## ############################################################################## >>>>>>> >>>>>>> INSTALLATION WITH 'R CMD INSTALL --preclean --no-multiarch --library=LedPred.buildbin-libdir LedPred_1.16.0.tar.gz' >>>>>>> * installing *source* package ‘LedPred’ ... ** R ** data *** moving datasets to lazyload DB ** inst ** byte-compile and prepare package for lazy loading ** help *** installing help indices ** building package indices ** installing vignettes ** testing if installed package can be loaded * DONE (LedPred)