| Back to Multiple platform build/check report for BioC 3.8 | 
  | 
This page was generated on 2019-04-13 11:20:46 -0400 (Sat, 13 Apr 2019).
| Package 803/1649 | Hostname | OS / Arch | INSTALL | BUILD | CHECK | BUILD BIN | ||||||
| ITALICS 2.42.0 Guillem Rigaill 
  | malbec1 | Linux (Ubuntu 16.04.6 LTS) / x86_64 | OK | OK | OK | |||||||
| tokay1 | Windows Server 2012 R2 Standard / x64 | OK | OK | OK | [ OK ] | |||||||
| merida1 | OS X 10.11.6 El Capitan / x86_64 | OK | OK | OK | OK | 
| Package: ITALICS | 
| Version: 2.42.0 | 
| Command: rm -rf ITALICS.buildbin-libdir && mkdir ITALICS.buildbin-libdir && C:\Users\biocbuild\bbs-3.8-bioc\R\bin\R.exe CMD INSTALL --merge-multiarch --build --library=ITALICS.buildbin-libdir ITALICS_2.42.0.tar.gz | 
| StartedAt: 2019-04-13 07:33:08 -0400 (Sat, 13 Apr 2019) | 
| EndedAt: 2019-04-13 07:33:47 -0400 (Sat, 13 Apr 2019) | 
| EllapsedTime: 39.6 seconds | 
| RetCode: 0 | 
| Status: OK | 
| PackageFile: ITALICS_2.42.0.zip | 
| PackageFileSize: 333.6 KiB | 
##############################################################################
##############################################################################
###
### Running command:
###
###   rm -rf ITALICS.buildbin-libdir && mkdir ITALICS.buildbin-libdir && C:\Users\biocbuild\bbs-3.8-bioc\R\bin\R.exe CMD INSTALL --merge-multiarch --build --library=ITALICS.buildbin-libdir ITALICS_2.42.0.tar.gz
###
##############################################################################
##############################################################################
install for i386
* installing *source* package 'ITALICS' ...
** R
** inst
** byte-compile and prepare package for lazy loading
** help
*** installing help indices
  converting help for package 'ITALICS'
    finding HTML links ... done
    GLAD.GLAD                               html  
    ITALICSNew                              html  
    ITALICSTrain                            html  
    Model.GetConfDat                        html  
    Model.GetCorrection                     html  
    Model.GetEffet                          html  
    Model.GetModel                          html  
    Model.GetResidu                         html  
    New.AddInfo                             html  
    New.fromQuartetToSnp                    html  
    New.fromSnpToQuartet                    html  
    New.getQuartet                          html  
    New.getSnpInfo                          html  
    New.readQuartetCopyNb                   html  
** building package indices
** installing vignettes
** testing if installed package can be loaded
In R CMD INSTALL
install for x64
* installing *source* package 'ITALICS' ...
** testing if installed package can be loaded
* MD5 sums
packaged installation of 'ITALICS' as ITALICS_2.42.0.zip
* DONE (ITALICS)
In R CMD INSTALL
In R CMD INSTALL