| Back to Multiple platform build/check report for BioC 3.8 | 
  | 
This page was generated on 2019-04-16 11:54:53 -0400 (Tue, 16 Apr 2019).
| Package 803/1649 | Hostname | OS / Arch | INSTALL | BUILD | CHECK | BUILD BIN | ||||||
| ITALICS 2.42.0 Guillem Rigaill 
  | malbec1 | Linux (Ubuntu 16.04.6 LTS) / x86_64 | OK | OK | OK | |||||||
| merida1 | OS X 10.11.6 El Capitan / x86_64 | OK | [ OK ] | OK | OK | 
| Package: ITALICS | 
| Version: 2.42.0 | 
| Command: /Library/Frameworks/R.framework/Versions/Current/Resources/bin/R CMD build --keep-empty-dirs --no-resave-data ITALICS | 
| StartedAt: 2019-04-15 19:07:07 -0400 (Mon, 15 Apr 2019) | 
| EndedAt: 2019-04-15 19:08:00 -0400 (Mon, 15 Apr 2019) | 
| EllapsedTime: 52.5 seconds | 
| RetCode: 0 | 
| Status: OK | 
| PackageFile: ITALICS_2.42.0.tar.gz | 
| PackageFileSize: 375.2 KiB | 
############################################################################## ############################################################################## ### ### Running command: ### ### /Library/Frameworks/R.framework/Versions/Current/Resources/bin/R CMD build --keep-empty-dirs --no-resave-data ITALICS ### ############################################################################## ############################################################################## * checking for file ‘ITALICS/DESCRIPTION’ ... OK * preparing ‘ITALICS’: * checking DESCRIPTION meta-information ... OK * installing the package to build vignettes * creating vignettes ... OK * checking for LF line-endings in source and make files and shell scripts * checking for empty or unneeded directories * building ‘ITALICS_2.42.0.tar.gz’