Back to Multiple platform build/check report for BioC 3.8 |
|
This page was generated on 2019-04-16 12:00:34 -0400 (Tue, 16 Apr 2019).
Package 624/1649 | Hostname | OS / Arch | INSTALL | BUILD | CHECK | BUILD BIN | ||||||
GenomicDataCommons 1.6.0 Sean Davis
| malbec1 | Linux (Ubuntu 16.04.6 LTS) / x86_64 | OK | OK | WARNINGS | ![]() | ||||||
merida1 | OS X 10.11.6 El Capitan / x86_64 | OK | OK | WARNINGS | [ OK ] | ![]() |
Package: GenomicDataCommons |
Version: 1.6.0 |
Command: rm -rf GenomicDataCommons.buildbin-libdir && mkdir GenomicDataCommons.buildbin-libdir && /Users/biocbuild/BBS/utils/build-universal.sh GenomicDataCommons_1.6.0.tar.gz /Library/Frameworks/R.framework/Versions/Current/Resources/bin/R GenomicDataCommons.buildbin-libdir |
StartedAt: 2019-04-16 04:07:43 -0400 (Tue, 16 Apr 2019) |
EndedAt: 2019-04-16 04:08:24 -0400 (Tue, 16 Apr 2019) |
EllapsedTime: 41.3 seconds |
RetCode: 0 |
Status: OK |
PackageFile: GenomicDataCommons_1.6.0.tgz |
PackageFileSize: 1.058 MiB |
############################################################################## ############################################################################## ### ### Running command: ### ### rm -rf GenomicDataCommons.buildbin-libdir && mkdir GenomicDataCommons.buildbin-libdir && /Users/biocbuild/BBS/utils/build-universal.sh GenomicDataCommons_1.6.0.tar.gz /Library/Frameworks/R.framework/Versions/Current/Resources/bin/R GenomicDataCommons.buildbin-libdir ### ############################################################################## ############################################################################## >>>>>>> >>>>>>> INSTALLATION WITH 'R CMD INSTALL --preclean --no-multiarch --library=GenomicDataCommons.buildbin-libdir GenomicDataCommons_1.6.0.tar.gz' >>>>>>> * installing *source* package ‘GenomicDataCommons’ ... ** R ** inst ** byte-compile and prepare package for lazy loading ** help *** installing help indices ** building package indices ** installing vignettes ** testing if installed package can be loaded * DONE (GenomicDataCommons)