| Back to Multiple platform build/check report for BioC 3.8 |
|
This page was generated on 2019-04-13 11:27:35 -0400 (Sat, 13 Apr 2019).
| Package 491/1649 | Hostname | OS / Arch | INSTALL | BUILD | CHECK | BUILD BIN | ||||||
| EventPointer 2.0.1 Juan Pablo Romero
| malbec1 | Linux (Ubuntu 16.04.6 LTS) / x86_64 | OK | OK | OK | |||||||
| tokay1 | Windows Server 2012 R2 Standard / x64 | OK | OK | OK | [ OK ] | |||||||
| merida1 | OS X 10.11.6 El Capitan / x86_64 | OK | OK | OK | OK |
| Package: EventPointer |
| Version: 2.0.1 |
| Command: rm -rf EventPointer.buildbin-libdir && mkdir EventPointer.buildbin-libdir && C:\Users\biocbuild\bbs-3.8-bioc\R\bin\R.exe CMD INSTALL --merge-multiarch --build --library=EventPointer.buildbin-libdir EventPointer_2.0.1.tar.gz |
| StartedAt: 2019-04-13 07:14:28 -0400 (Sat, 13 Apr 2019) |
| EndedAt: 2019-04-13 07:15:11 -0400 (Sat, 13 Apr 2019) |
| EllapsedTime: 43.3 seconds |
| RetCode: 0 |
| Status: OK |
| PackageFile: EventPointer_2.0.1.zip |
| PackageFileSize: 1.044 MiB |
##############################################################################
##############################################################################
###
### Running command:
###
### rm -rf EventPointer.buildbin-libdir && mkdir EventPointer.buildbin-libdir && C:\Users\biocbuild\bbs-3.8-bioc\R\bin\R.exe CMD INSTALL --merge-multiarch --build --library=EventPointer.buildbin-libdir EventPointer_2.0.1.tar.gz
###
##############################################################################
##############################################################################
install for i386
* installing *source* package 'EventPointer' ...
** R
** data
*** moving datasets to lazyload DB
** inst
** byte-compile and prepare package for lazy loading
** help
*** installing help indices
converting help for package 'EventPointer'
finding HTML links ... done
AllEvents_RNASeq html
AllEvents_RNASeq_MP html
ArrayDatamultipath html
ArraysData html
CDFfromGTF html
CDFfromGTF_Multipath html
EventDetection html
EventDetectionMultipath html
EventPointer html
EventPointer_IGV html
EventPointer_RNASeq html
EventPointer_RNASeq_IGV html
EventPointer_RNASeq_TranRef html
EventXtrans html
EventsGTFfromTrancriptomeGTF html
GetPSI_FromTranRef html
InternalFunctions html
PSI_Statistic html
PSIss html
PrepareBam_EP html
SG_RNASeq html
getbootstrapkallisto html
** building package indices
** installing vignettes
** testing if installed package can be loaded
In R CMD INSTALL
install for x64
* installing *source* package 'EventPointer' ...
** testing if installed package can be loaded
* MD5 sums
packaged installation of 'EventPointer' as EventPointer_2.0.1.zip
* DONE (EventPointer)
In R CMD INSTALL
In R CMD INSTALL