| Back to Multiple platform build/check report for BioC 3.8 |
|
This page was generated on 2019-04-16 11:52:37 -0400 (Tue, 16 Apr 2019).
| Package 491/1649 | Hostname | OS / Arch | INSTALL | BUILD | CHECK | BUILD BIN | ||||||
| EventPointer 2.0.1 Juan Pablo Romero
| malbec1 | Linux (Ubuntu 16.04.6 LTS) / x86_64 | OK | OK | [ OK ] | |||||||
| merida1 | OS X 10.11.6 El Capitan / x86_64 | OK | OK | OK | OK |
| Package: EventPointer |
| Version: 2.0.1 |
| Command: /home/biocbuild/bbs-3.8-bioc/R/bin/R CMD check --install=check:EventPointer.install-out.txt --library=/home/biocbuild/bbs-3.8-bioc/R/library --no-vignettes --timings EventPointer_2.0.1.tar.gz |
| StartedAt: 2019-04-15 23:50:23 -0400 (Mon, 15 Apr 2019) |
| EndedAt: 2019-04-15 23:55:28 -0400 (Mon, 15 Apr 2019) |
| EllapsedTime: 305.0 seconds |
| RetCode: 0 |
| Status: OK |
| CheckDir: EventPointer.Rcheck |
| Warnings: 0 |
##############################################################################
##############################################################################
###
### Running command:
###
### /home/biocbuild/bbs-3.8-bioc/R/bin/R CMD check --install=check:EventPointer.install-out.txt --library=/home/biocbuild/bbs-3.8-bioc/R/library --no-vignettes --timings EventPointer_2.0.1.tar.gz
###
##############################################################################
##############################################################################
* using log directory ‘/home/biocbuild/bbs-3.8-bioc/meat/EventPointer.Rcheck’
* using R version 3.5.3 (2019-03-11)
* using platform: x86_64-pc-linux-gnu (64-bit)
* using session charset: UTF-8
* using option ‘--no-vignettes’
* checking for file ‘EventPointer/DESCRIPTION’ ... OK
* checking extension type ... Package
* this is package ‘EventPointer’ version ‘2.0.1’
* checking package namespace information ... OK
* checking package dependencies ... OK
* checking if this is a source package ... OK
* checking if there is a namespace ... OK
* checking for hidden files and directories ... OK
* checking for portable file names ... OK
* checking for sufficient/correct file permissions ... OK
* checking whether package ‘EventPointer’ can be installed ... OK
* checking installed package size ... OK
* checking package directory ... OK
* checking ‘build’ directory ... OK
* checking DESCRIPTION meta-information ... OK
* checking top-level files ... OK
* checking for left-over files ... OK
* checking index information ... OK
* checking package subdirectories ... OK
* checking R files for non-ASCII characters ... OK
* checking R files for syntax errors ... OK
* checking whether the package can be loaded ... OK
* checking whether the package can be loaded with stated dependencies ... OK
* checking whether the package can be unloaded cleanly ... OK
* checking whether the namespace can be loaded with stated dependencies ... OK
* checking whether the namespace can be unloaded cleanly ... OK
* checking dependencies in R code ... NOTE
Unexported objects imported by ':::' calls:
‘SGSeq:::addFeatureID’ ‘SGSeq:::addGeneID’ ‘SGSeq:::edges’
‘SGSeq:::exonGraph’ ‘SGSeq:::feature2name’ ‘SGSeq:::matchSGFeatures’
‘SGSeq:::nodes’ ‘SGSeq:::propagateAnnotation’
‘SGSeq:::splitCharacterList’
See the note in ?`:::` about the use of this operator.
* checking S3 generic/method consistency ... OK
* checking replacement functions ... OK
* checking foreign function calls ... OK
* checking R code for possible problems ... NOTE
annotate2: no visible global function definition for
‘addDummySpliceSites’
annotate2: no visible global function definition for ‘annotatePaths’
annotateFeatures2: no visible global function definition for
‘matchTxFeatures’
Undefined global functions or variables:
addDummySpliceSites annotatePaths matchTxFeatures
* checking Rd files ... OK
* checking Rd metadata ... OK
* checking Rd cross-references ... OK
* checking for missing documentation entries ... OK
* checking for code/documentation mismatches ... OK
* checking Rd \usage sections ... OK
* checking Rd contents ... OK
* checking for unstated dependencies in examples ... OK
* checking contents of ‘data’ directory ... OK
* checking data for non-ASCII characters ... OK
* checking data for ASCII and uncompressed saves ... OK
* checking files in ‘vignettes’ ... OK
* checking examples ... OK
Examples with CPU or elapsed time > 5s
user system elapsed
CDFfromGTF 6.540 0.044 6.643
EventsGTFfromTrancriptomeGTF 6.132 0.000 6.274
CDFfromGTF_Multipath 5.356 0.004 5.361
* checking for unstated dependencies in ‘tests’ ... OK
* checking tests ...
Running ‘runTests.R’
OK
* checking for unstated dependencies in vignettes ... OK
* checking package vignettes in ‘inst/doc’ ... OK
* checking running R code from vignettes ... SKIPPED
* checking re-building of vignette outputs ... SKIPPED
* checking PDF version of manual ... OK
* DONE
Status: 2 NOTEs
See
‘/home/biocbuild/bbs-3.8-bioc/meat/EventPointer.Rcheck/00check.log’
for details.
EventPointer.Rcheck/00install.out
############################################################################## ############################################################################## ### ### Running command: ### ### /home/biocbuild/bbs-3.8-bioc/R/bin/R CMD INSTALL EventPointer ### ############################################################################## ############################################################################## * installing to library ‘/home/biocbuild/bbs-3.8-bioc/R/library’ * installing *source* package ‘EventPointer’ ... ** R ** data *** moving datasets to lazyload DB ** inst ** byte-compile and prepare package for lazy loading ** help *** installing help indices ** building package indices ** installing vignettes ** testing if installed package can be loaded * DONE (EventPointer)
EventPointer.Rcheck/tests/runTests.Rout
R version 3.5.3 (2019-03-11) -- "Great Truth"
Copyright (C) 2019 The R Foundation for Statistical Computing
Platform: x86_64-pc-linux-gnu (64-bit)
R is free software and comes with ABSOLUTELY NO WARRANTY.
You are welcome to redistribute it under certain conditions.
Type 'license()' or 'licence()' for distribution details.
R is a collaborative project with many contributors.
Type 'contributors()' for more information and
'citation()' on how to cite R or R packages in publications.
Type 'demo()' for some demos, 'help()' for on-line help, or
'help.start()' for an HTML browser interface to help.
Type 'q()' to quit R.
> BiocGenerics:::testPackage("EventPointer")
Attaching package: 'BiocGenerics'
The following objects are masked from 'package:parallel':
clusterApply, clusterApplyLB, clusterCall, clusterEvalQ,
clusterExport, clusterMap, parApply, parCapply, parLapply,
parLapplyLB, parRapply, parSapply, parSapplyLB
The following objects are masked from 'package:stats':
IQR, mad, sd, var, xtabs
The following objects are masked from 'package:base':
Filter, Find, Map, Position, Reduce, anyDuplicated, append,
as.data.frame, basename, cbind, colMeans, colSums, colnames,
dirname, do.call, duplicated, eval, evalq, get, grep, grepl,
intersect, is.unsorted, lapply, lengths, mapply, match, mget,
order, paste, pmax, pmax.int, pmin, pmin.int, rank, rbind,
rowMeans, rowSums, rownames, sapply, setdiff, sort, table, tapply,
union, unique, unsplit, which, which.max, which.min
Attaching package: 'S4Vectors'
The following object is masked from 'package:base':
expand.grid
Attaching package: 'Biostrings'
The following object is masked from 'package:base':
strsplit
Welcome to Bioconductor
Vignettes contain introductory material; view with
'browseVignettes()'. To cite Bioconductor, see
'citation("Biobase")', and for packages 'citation("pkgname")'.
Attaching package: 'matrixStats'
The following objects are masked from 'package:Biobase':
anyMissing, rowMedians
Attaching package: 'DelayedArray'
The following objects are masked from 'package:matrixStats':
colMaxs, colMins, colRanges, rowMaxs, rowMins, rowRanges
The following object is masked from 'package:Biostrings':
type
The following objects are masked from 'package:base':
aperm, apply
Attaching package: 'Matrix'
The following object is masked from 'package:S4Vectors':
expand
Creating SG Information...Creating SG Information...
Obtaining Events
|
| | 0%
|
|============ | 17%
|
|======================= | 33%
|
|=================================== | 50%
|
|=============================================== | 67%
|
|========================================================== | 83%
|
|======================================================================| 100%
Obtaining Events
|
| | 0%
|
|============ | 17%
|
|======================= | 33%
|
|=================================== | 50%
|
|=============================================== | 67%
|
|========================================================== | 83%
|
|======================================================================| 100%
Creating SG Information...Creating SG Information...Creating SG Information...Creating SG Information...Creating SG Information...Import genomic features from the file as a GRanges object ... OK
Prepare the 'metadata' data frame ... OK
Make the TxDb object ... OK
|
| | 0%
|
|=================================== | 50%
|
|======================================================================| 100%
Creating .txt ...
.txt created
Creating .GTF ...
|
| | 0%
|
|======== | 11%
|
|================ | 22%
|
|======================= | 33%
|
|=============================== | 44%
|
|======================================= | 56%
|
|=============================================== | 67%
|
|====================================================== | 78%
|
|============================================================== | 89%
|
|======================================================================| 100%
.txt created
Creating the sparseMatrix of paths x transcripts...
******FINISHED******
RUNIT TEST PROTOCOL -- Mon Apr 15 23:55:25 2019
***********************************************
Number of test functions: 13
Number of errors: 0
Number of failures: 0
1 Test Suite :
EventPointer RUnit Tests - 13 test functions, 0 errors, 0 failures
Number of test functions: 13
Number of errors: 0
Number of failures: 0
>
> proc.time()
user system elapsed
24.164 0.544 24.770
EventPointer.Rcheck/EventPointer-Ex.timings
| name | user | system | elapsed | |
| CDFfromGTF | 6.540 | 0.044 | 6.643 | |
| CDFfromGTF_Multipath | 5.356 | 0.004 | 5.361 | |
| EventDetection | 1.784 | 0.000 | 1.786 | |
| EventDetectionMultipath | 1.248 | 0.000 | 1.247 | |
| EventPointer | 0.068 | 0.000 | 0.081 | |
| EventPointer_IGV | 3.696 | 0.000 | 3.704 | |
| EventPointer_RNASeq | 0.112 | 0.000 | 0.111 | |
| EventPointer_RNASeq_IGV | 4.604 | 0.004 | 4.634 | |
| EventPointer_RNASeq_TranRef | 0.024 | 0.000 | 0.024 | |
| EventsGTFfromTrancriptomeGTF | 6.132 | 0.000 | 6.274 | |
| GetPSI_FromTranRef | 0.020 | 0.004 | 0.043 | |
| PSI_Statistic | 0.136 | 0.000 | 0.144 | |
| PrepareBam_EP | 0.000 | 0.000 | 0.001 | |
| getbootstrapkallisto | 0.656 | 0.012 | 0.677 | |