| Back to Multiple platform build/check report for BioC 3.8 | 
 | 
This page was generated on 2019-04-16 11:56:05 -0400 (Tue, 16 Apr 2019).
| Package 406/1649 | Hostname | OS / Arch | INSTALL | BUILD | CHECK | BUILD BIN | ||||||
| DiffBind 2.10.0 Rory Stark 
 | malbec1 | Linux (Ubuntu 16.04.6 LTS) / x86_64 | OK | OK | OK |  | ||||||
| merida1 | OS X 10.11.6 El Capitan / x86_64 | OK | OK | [ OK ] | OK |  | 
| Package: DiffBind | 
| Version: 2.10.0 | 
| Command: /Library/Frameworks/R.framework/Versions/Current/Resources/bin/R CMD check --install=check:DiffBind.install-out.txt --library=/Library/Frameworks/R.framework/Versions/Current/Resources/library --no-vignettes --timings DiffBind_2.10.0.tar.gz | 
| StartedAt: 2019-04-15 23:30:40 -0400 (Mon, 15 Apr 2019) | 
| EndedAt: 2019-04-15 23:42:57 -0400 (Mon, 15 Apr 2019) | 
| EllapsedTime: 737.8 seconds | 
| RetCode: 0 | 
| Status: OK | 
| CheckDir: DiffBind.Rcheck | 
| Warnings: 0 | 
##############################################################################
##############################################################################
###
### Running command:
###
###   /Library/Frameworks/R.framework/Versions/Current/Resources/bin/R CMD check --install=check:DiffBind.install-out.txt --library=/Library/Frameworks/R.framework/Versions/Current/Resources/library --no-vignettes --timings DiffBind_2.10.0.tar.gz
###
##############################################################################
##############################################################################
* using log directory ‘/Users/biocbuild/bbs-3.8-bioc/meat/DiffBind.Rcheck’
* using R version 3.5.3 (2019-03-11)
* using platform: x86_64-apple-darwin15.6.0 (64-bit)
* using session charset: UTF-8
* using option ‘--no-vignettes’
* checking for file ‘DiffBind/DESCRIPTION’ ... OK
* checking extension type ... Package
* this is package ‘DiffBind’ version ‘2.10.0’
* checking package namespace information ... OK
* checking package dependencies ... OK
* checking if this is a source package ... OK
* checking if there is a namespace ... OK
* checking for hidden files and directories ... OK
* checking for portable file names ... OK
* checking for sufficient/correct file permissions ... OK
* checking whether package ‘DiffBind’ can be installed ... OK
* checking installed package size ... OK
* checking package directory ... OK
* checking ‘build’ directory ... OK
* checking DESCRIPTION meta-information ... OK
* checking top-level files ... OK
* checking for left-over files ... OK
* checking index information ... OK
* checking package subdirectories ... OK
* checking R files for non-ASCII characters ... OK
* checking R files for syntax errors ... OK
* checking whether the package can be loaded ... OK
* checking whether the package can be loaded with stated dependencies ... OK
* checking whether the package can be unloaded cleanly ... OK
* checking whether the namespace can be loaded with stated dependencies ... OK
* checking whether the namespace can be unloaded cleanly ... OK
* checking dependencies in R code ... OK
* checking S3 generic/method consistency ... OK
* checking replacement functions ... OK
* checking foreign function calls ... OK
* checking R code for possible problems ... NOTE
pv.DBAplotVolcano: no visible binding for global variable ‘Fold’
pv.DBAplotVolcano: no visible binding for global variable ‘Legend’
Undefined global functions or variables:
  Fold Legend
* checking Rd files ... OK
* checking Rd metadata ... OK
* checking Rd cross-references ... OK
* checking for missing documentation entries ... OK
* checking for code/documentation mismatches ... OK
* checking Rd \usage sections ... OK
* checking Rd contents ... OK
* checking for unstated dependencies in examples ... OK
* checking contents of ‘data’ directory ... OK
* checking data for non-ASCII characters ... OK
* checking data for ASCII and uncompressed saves ... OK
* checking line endings in C/C++/Fortran sources/headers ... OK
* checking line endings in Makefiles ... OK
* checking compilation flags in Makevars ... OK
* checking for GNU extensions in Makefiles ... OK
* checking for portable use of $(BLAS_LIBS) and $(LAPACK_LIBS) ... OK
* checking compiled code ... NOTE
Note: information on .o files is not available
File ‘/Library/Frameworks/R.framework/Versions/3.5/Resources/library/DiffBind/libs/DiffBind.so’:
  Found ‘___stderrp’, possibly from ‘stderr’ (C)
  Found ‘___stdoutp’, possibly from ‘stdout’ (C)
  Found ‘_puts’, possibly from ‘printf’ (C), ‘puts’ (C)
Compiled code should not call entry points which might terminate R nor
write to stdout/stderr instead of to the console, nor use Fortran I/O
nor system RNGs. The detected symbols are linked into the code but
might come from libraries and not actually be called.
See ‘Writing portable packages’ in the ‘Writing R Extensions’ manual.
* checking sizes of PDF files under ‘inst/doc’ ... OK
* checking files in ‘vignettes’ ... OK
* checking examples ... OK
Examples with CPU or elapsed time > 5s
                   user system elapsed
dba.plotVenn    107.999  0.417 109.353
dba.peakset      99.674  0.223 100.908
dba.count        30.419  0.106  30.829
dba.analyze      19.797  0.489  20.507
dba.report       17.884  0.127  18.156
dba              14.662  0.065  14.933
dba.plotHeatmap  12.625  0.151  12.655
dba.contrast      9.334  0.102   9.547
dba.overlap       7.880  0.027   7.974
* checking for unstated dependencies in ‘tests’ ... OK
* checking tests ...
  Running ‘testthat.R’
 OK
* checking for unstated dependencies in vignettes ... OK
* checking package vignettes in ‘inst/doc’ ... OK
* checking running R code from vignettes ... SKIPPED
* checking re-building of vignette outputs ... SKIPPED
* checking PDF version of manual ... OK
* DONE
Status: 2 NOTEs
See
  ‘/Users/biocbuild/bbs-3.8-bioc/meat/DiffBind.Rcheck/00check.log’
for details.
DiffBind.Rcheck/00install.out
############################################################################## ############################################################################## ### ### Running command: ### ### /Library/Frameworks/R.framework/Versions/Current/Resources/bin/R CMD INSTALL DiffBind ### ############################################################################## ############################################################################## * installing to library ‘/Library/Frameworks/R.framework/Versions/3.5/Resources/library’ * installing *source* package ‘DiffBind’ ... ** libs clang++ -I"/Library/Frameworks/R.framework/Resources/include" -DNDEBUG -D_USE_KNETFILE -DBGZF_CACHE -D_FILE_OFFSET_BITS=64 -D_LARGEFILE64_SOURCE -I"/Library/Frameworks/R.framework/Versions/3.5/Resources/library/Rsamtools/include" -I"/Library/Frameworks/R.framework/Versions/3.5/Resources/library/Rcpp/include" -I/usr/local/include -fPIC -Wall -g -O2 -c RcppExports.cpp -o RcppExports.o clang++ -I"/Library/Frameworks/R.framework/Resources/include" -DNDEBUG -D_USE_KNETFILE -DBGZF_CACHE -D_FILE_OFFSET_BITS=64 -D_LARGEFILE64_SOURCE -I"/Library/Frameworks/R.framework/Versions/3.5/Resources/library/Rsamtools/include" -I"/Library/Frameworks/R.framework/Versions/3.5/Resources/library/Rcpp/include" -I/usr/local/include -fPIC -Wall -g -O2 -c bamReader.cpp -o bamReader.o clang++ -I"/Library/Frameworks/R.framework/Resources/include" -DNDEBUG -D_USE_KNETFILE -DBGZF_CACHE -D_FILE_OFFSET_BITS=64 -D_LARGEFILE64_SOURCE -I"/Library/Frameworks/R.framework/Versions/3.5/Resources/library/Rsamtools/include" -I"/Library/Frameworks/R.framework/Versions/3.5/Resources/library/Rcpp/include" -I/usr/local/include -fPIC -Wall -g -O2 -c bedReader.cpp -o bedReader.o clang++ -I"/Library/Frameworks/R.framework/Resources/include" -DNDEBUG -D_USE_KNETFILE -DBGZF_CACHE -D_FILE_OFFSET_BITS=64 -D_LARGEFILE64_SOURCE -I"/Library/Frameworks/R.framework/Versions/3.5/Resources/library/Rsamtools/include" -I"/Library/Frameworks/R.framework/Versions/3.5/Resources/library/Rcpp/include" -I/usr/local/include -fPIC -Wall -g -O2 -c bitBucket.cpp -o bitBucket.o clang++ -I"/Library/Frameworks/R.framework/Resources/include" -DNDEBUG -D_USE_KNETFILE -DBGZF_CACHE -D_FILE_OFFSET_BITS=64 -D_LARGEFILE64_SOURCE -I"/Library/Frameworks/R.framework/Versions/3.5/Resources/library/Rsamtools/include" -I"/Library/Frameworks/R.framework/Versions/3.5/Resources/library/Rcpp/include" -I/usr/local/include -fPIC -Wall -g -O2 -c croi_func.cpp -o croi_func.o clang++ -I"/Library/Frameworks/R.framework/Resources/include" -DNDEBUG -D_USE_KNETFILE -DBGZF_CACHE -D_FILE_OFFSET_BITS=64 -D_LARGEFILE64_SOURCE -I"/Library/Frameworks/R.framework/Versions/3.5/Resources/library/Rsamtools/include" -I"/Library/Frameworks/R.framework/Versions/3.5/Resources/library/Rcpp/include" -I/usr/local/include -fPIC -Wall -g -O2 -c croi_main.cpp -o croi_main.o clang++ -I"/Library/Frameworks/R.framework/Resources/include" -DNDEBUG -D_USE_KNETFILE -DBGZF_CACHE -D_FILE_OFFSET_BITS=64 -D_LARGEFILE64_SOURCE -I"/Library/Frameworks/R.framework/Versions/3.5/Resources/library/Rsamtools/include" -I"/Library/Frameworks/R.framework/Versions/3.5/Resources/library/Rcpp/include" -I/usr/local/include -fPIC -Wall -g -O2 -c densitySet.cpp -o densitySet.o clang++ -I"/Library/Frameworks/R.framework/Resources/include" -DNDEBUG -D_USE_KNETFILE -DBGZF_CACHE -D_FILE_OFFSET_BITS=64 -D_LARGEFILE64_SOURCE -I"/Library/Frameworks/R.framework/Versions/3.5/Resources/library/Rsamtools/include" -I"/Library/Frameworks/R.framework/Versions/3.5/Resources/library/Rcpp/include" -I/usr/local/include -fPIC -Wall -g -O2 -c iBucket.cpp -o iBucket.o clang++ -I"/Library/Frameworks/R.framework/Resources/include" -DNDEBUG -D_USE_KNETFILE -DBGZF_CACHE -D_FILE_OFFSET_BITS=64 -D_LARGEFILE64_SOURCE -I"/Library/Frameworks/R.framework/Versions/3.5/Resources/library/Rsamtools/include" -I"/Library/Frameworks/R.framework/Versions/3.5/Resources/library/Rcpp/include" -I/usr/local/include -fPIC -Wall -g -O2 -c interval.cpp -o interval.o clang++ -I"/Library/Frameworks/R.framework/Resources/include" -DNDEBUG -D_USE_KNETFILE -DBGZF_CACHE -D_FILE_OFFSET_BITS=64 -D_LARGEFILE64_SOURCE -I"/Library/Frameworks/R.framework/Versions/3.5/Resources/library/Rsamtools/include" -I"/Library/Frameworks/R.framework/Versions/3.5/Resources/library/Rcpp/include" -I/usr/local/include -fPIC -Wall -g -O2 -c intervalDensity.cpp -o intervalDensity.o clang++ -I"/Library/Frameworks/R.framework/Resources/include" -DNDEBUG -D_USE_KNETFILE -DBGZF_CACHE -D_FILE_OFFSET_BITS=64 -D_LARGEFILE64_SOURCE -I"/Library/Frameworks/R.framework/Versions/3.5/Resources/library/Rsamtools/include" -I"/Library/Frameworks/R.framework/Versions/3.5/Resources/library/Rcpp/include" -I/usr/local/include -fPIC -Wall -g -O2 -c intervalNode.cpp -o intervalNode.o clang++ -I"/Library/Frameworks/R.framework/Resources/include" -DNDEBUG -D_USE_KNETFILE -DBGZF_CACHE -D_FILE_OFFSET_BITS=64 -D_LARGEFILE64_SOURCE -I"/Library/Frameworks/R.framework/Versions/3.5/Resources/library/Rsamtools/include" -I"/Library/Frameworks/R.framework/Versions/3.5/Resources/library/Rcpp/include" -I/usr/local/include -fPIC -Wall -g -O2 -c intervalSet.cpp -o intervalSet.o clang++ -I"/Library/Frameworks/R.framework/Resources/include" -DNDEBUG -D_USE_KNETFILE -DBGZF_CACHE -D_FILE_OFFSET_BITS=64 -D_LARGEFILE64_SOURCE -I"/Library/Frameworks/R.framework/Versions/3.5/Resources/library/Rsamtools/include" -I"/Library/Frameworks/R.framework/Versions/3.5/Resources/library/Rcpp/include" -I/usr/local/include -fPIC -Wall -g -O2 -c intervalTree.cpp -o intervalTree.o clang++ -I"/Library/Frameworks/R.framework/Resources/include" -DNDEBUG -D_USE_KNETFILE -DBGZF_CACHE -D_FILE_OFFSET_BITS=64 -D_LARGEFILE64_SOURCE -I"/Library/Frameworks/R.framework/Versions/3.5/Resources/library/Rsamtools/include" -I"/Library/Frameworks/R.framework/Versions/3.5/Resources/library/Rcpp/include" -I/usr/local/include -fPIC -Wall -g -O2 -c merge.cpp -o merge.o clang -I"/Library/Frameworks/R.framework/Resources/include" -DNDEBUG -D_USE_KNETFILE -DBGZF_CACHE -D_FILE_OFFSET_BITS=64 -D_LARGEFILE64_SOURCE -I"/Library/Frameworks/R.framework/Versions/3.5/Resources/library/Rsamtools/include" -I"/Library/Frameworks/R.framework/Versions/3.5/Resources/library/Rcpp/include" -I/usr/local/include -fPIC -Wall -g -O2 -c mergeOne.c -o mergeOne.o clang++ -I"/Library/Frameworks/R.framework/Resources/include" -DNDEBUG -D_USE_KNETFILE -DBGZF_CACHE -D_FILE_OFFSET_BITS=64 -D_LARGEFILE64_SOURCE -I"/Library/Frameworks/R.framework/Versions/3.5/Resources/library/Rsamtools/include" -I"/Library/Frameworks/R.framework/Versions/3.5/Resources/library/Rcpp/include" -I/usr/local/include -fPIC -Wall -g -O2 -c nodeGroup.cpp -o nodeGroup.o clang++ -I"/Library/Frameworks/R.framework/Resources/include" -DNDEBUG -D_USE_KNETFILE -DBGZF_CACHE -D_FILE_OFFSET_BITS=64 -D_LARGEFILE64_SOURCE -I"/Library/Frameworks/R.framework/Versions/3.5/Resources/library/Rsamtools/include" -I"/Library/Frameworks/R.framework/Versions/3.5/Resources/library/Rcpp/include" -I/usr/local/include -fPIC -Wall -g -O2 -c peakOrder.cpp -o peakOrder.o clang++ -I"/Library/Frameworks/R.framework/Resources/include" -DNDEBUG -D_USE_KNETFILE -DBGZF_CACHE -D_FILE_OFFSET_BITS=64 -D_LARGEFILE64_SOURCE -I"/Library/Frameworks/R.framework/Versions/3.5/Resources/library/Rsamtools/include" -I"/Library/Frameworks/R.framework/Versions/3.5/Resources/library/Rcpp/include" -I/usr/local/include -fPIC -Wall -g -O2 -c reader.cpp -o reader.o clang++ -I"/Library/Frameworks/R.framework/Resources/include" -DNDEBUG -D_USE_KNETFILE -DBGZF_CACHE -D_FILE_OFFSET_BITS=64 -D_LARGEFILE64_SOURCE -I"/Library/Frameworks/R.framework/Versions/3.5/Resources/library/Rsamtools/include" -I"/Library/Frameworks/R.framework/Versions/3.5/Resources/library/Rcpp/include" -I/usr/local/include -fPIC -Wall -g -O2 -c sequence.cpp -o sequence.o clang++ -I"/Library/Frameworks/R.framework/Resources/include" -DNDEBUG -D_USE_KNETFILE -DBGZF_CACHE -D_FILE_OFFSET_BITS=64 -D_LARGEFILE64_SOURCE -I"/Library/Frameworks/R.framework/Versions/3.5/Resources/library/Rsamtools/include" -I"/Library/Frameworks/R.framework/Versions/3.5/Resources/library/Rcpp/include" -I/usr/local/include -fPIC -Wall -g -O2 -c util.cpp -o util.o clang++ -dynamiclib -Wl,-headerpad_max_install_names -undefined dynamic_lookup -single_module -multiply_defined suppress -L/Library/Frameworks/R.framework/Resources/lib -L/usr/local/lib -o DiffBind.so RcppExports.o bamReader.o bedReader.o bitBucket.o croi_func.o croi_main.o densitySet.o iBucket.o interval.o intervalDensity.o intervalNode.o intervalSet.o intervalTree.o merge.o mergeOne.o nodeGroup.o peakOrder.o reader.o sequence.o util.o /Library/Frameworks/R.framework/Versions/3.5/Resources/library/Rsamtools/usrlib//libbam.a /Library/Frameworks/R.framework/Versions/3.5/Resources/library/Rsamtools/usrlib//libbcf.a /Library/Frameworks/R.framework/Versions/3.5/Resources/library/Rsamtools/usrlib//libtabix.a -lz -pthread -F/Library/Frameworks/R.framework/.. -framework R -Wl,-framework -Wl,CoreFoundation clang-4.0: warning: argument unused during compilation: '-pthread' [-Wunused-command-line-argument] installing to /Library/Frameworks/R.framework/Versions/3.5/Resources/library/DiffBind/libs ** R ** data ** inst ** byte-compile and prepare package for lazy loading ** help *** installing help indices ** building package indices ** installing vignettes ** testing if installed package can be loaded * DONE (DiffBind)
DiffBind.Rcheck/tests/testthat.Rout
R version 3.5.3 (2019-03-11) -- "Great Truth"
Copyright (C) 2019 The R Foundation for Statistical Computing
Platform: x86_64-apple-darwin15.6.0 (64-bit)
R is free software and comes with ABSOLUTELY NO WARRANTY.
You are welcome to redistribute it under certain conditions.
Type 'license()' or 'licence()' for distribution details.
R is a collaborative project with many contributors.
Type 'contributors()' for more information and
'citation()' on how to cite R or R packages in publications.
Type 'demo()' for some demos, 'help()' for on-line help, or
'help.start()' for an HTML browser interface to help.
Type 'q()' to quit R.
> library(testthat)
> library(DiffBind)
Loading required package: GenomicRanges
Loading required package: stats4
Loading required package: BiocGenerics
Loading required package: parallel
Attaching package: 'BiocGenerics'
The following objects are masked from 'package:parallel':
    clusterApply, clusterApplyLB, clusterCall, clusterEvalQ,
    clusterExport, clusterMap, parApply, parCapply, parLapply,
    parLapplyLB, parRapply, parSapply, parSapplyLB
The following objects are masked from 'package:stats':
    IQR, mad, sd, var, xtabs
The following objects are masked from 'package:base':
    Filter, Find, Map, Position, Reduce, anyDuplicated, append,
    as.data.frame, basename, cbind, colMeans, colSums, colnames,
    dirname, do.call, duplicated, eval, evalq, get, grep, grepl,
    intersect, is.unsorted, lapply, lengths, mapply, match, mget,
    order, paste, pmax, pmax.int, pmin, pmin.int, rank, rbind,
    rowMeans, rowSums, rownames, sapply, setdiff, sort, table, tapply,
    union, unique, unsplit, which, which.max, which.min
Loading required package: S4Vectors
Attaching package: 'S4Vectors'
The following object is masked from 'package:base':
    expand.grid
Loading required package: IRanges
Loading required package: GenomeInfoDb
Loading required package: SummarizedExperiment
Loading required package: Biobase
Welcome to Bioconductor
    Vignettes contain introductory material; view with
    'browseVignettes()'. To cite Bioconductor, see
    'citation("Biobase")', and for packages 'citation("pkgname")'.
Loading required package: DelayedArray
Loading required package: matrixStats
Attaching package: 'matrixStats'
The following objects are masked from 'package:Biobase':
    anyMissing, rowMedians
Loading required package: BiocParallel
Attaching package: 'DelayedArray'
The following objects are masked from 'package:matrixStats':
    colMaxs, colMins, colRanges, rowMaxs, rowMins, rowRanges
The following objects are masked from 'package:base':
    aperm, apply
> 
> test_check("DiffBind")
══ testthat results  ═══════════════════════════════════════════════════════════
OK: 74 SKIPPED: 0 FAILED: 0
> 
> proc.time()
   user  system elapsed 
 37.817   0.889  38.982 
DiffBind.Rcheck/DiffBind-Ex.timings
| name | user | system | elapsed | |
| dba | 14.662 | 0.065 | 14.933 | |
| dba.analyze | 19.797 | 0.489 | 20.507 | |
| dba.contrast | 9.334 | 0.102 | 9.547 | |
| dba.count | 30.419 | 0.106 | 30.829 | |
| dba.load | 3.683 | 0.017 | 3.739 | |
| dba.mask | 2.652 | 0.011 | 2.675 | |
| dba.overlap | 7.880 | 0.027 | 7.974 | |
| dba.peakset | 99.674 | 0.223 | 100.908 | |
| dba.plotBox | 0.312 | 0.013 | 0.327 | |
| dba.plotHeatmap | 12.625 | 0.151 | 12.655 | |
| dba.plotMA | 0.581 | 0.028 | 0.617 | |
| dba.plotPCA | 1.424 | 0.046 | 1.481 | |
| dba.plotVenn | 107.999 | 0.417 | 109.353 | |
| dba.plotVolcano | 1.632 | 0.024 | 1.679 | |
| dba.report | 17.884 | 0.127 | 18.156 | |
| dba.save | 0 | 0 | 0 | |
| dba.show | 0.160 | 0.012 | 0.174 | |
| print.DBA | 0.129 | 0.013 | 0.143 | |
| tamoxifen | 0.485 | 0.030 | 0.517 | |