| Back to Multiple platform build/check report for BioC 3.8 |
|
This page was generated on 2019-04-16 11:49:22 -0400 (Tue, 16 Apr 2019).
| Package 406/1649 | Hostname | OS / Arch | INSTALL | BUILD | CHECK | BUILD BIN | ||||||
| DiffBind 2.10.0 Rory Stark
| malbec1 | Linux (Ubuntu 16.04.6 LTS) / x86_64 | OK | OK | [ OK ] | |||||||
| merida1 | OS X 10.11.6 El Capitan / x86_64 | OK | OK | OK | OK |
| Package: DiffBind |
| Version: 2.10.0 |
| Command: /home/biocbuild/bbs-3.8-bioc/R/bin/R CMD check --install=check:DiffBind.install-out.txt --library=/home/biocbuild/bbs-3.8-bioc/R/library --no-vignettes --timings DiffBind_2.10.0.tar.gz |
| StartedAt: 2019-04-15 23:29:37 -0400 (Mon, 15 Apr 2019) |
| EndedAt: 2019-04-15 23:41:39 -0400 (Mon, 15 Apr 2019) |
| EllapsedTime: 721.9 seconds |
| RetCode: 0 |
| Status: OK |
| CheckDir: DiffBind.Rcheck |
| Warnings: 0 |
##############################################################################
##############################################################################
###
### Running command:
###
### /home/biocbuild/bbs-3.8-bioc/R/bin/R CMD check --install=check:DiffBind.install-out.txt --library=/home/biocbuild/bbs-3.8-bioc/R/library --no-vignettes --timings DiffBind_2.10.0.tar.gz
###
##############################################################################
##############################################################################
* using log directory ‘/home/biocbuild/bbs-3.8-bioc/meat/DiffBind.Rcheck’
* using R version 3.5.3 (2019-03-11)
* using platform: x86_64-pc-linux-gnu (64-bit)
* using session charset: UTF-8
* using option ‘--no-vignettes’
* checking for file ‘DiffBind/DESCRIPTION’ ... OK
* checking extension type ... Package
* this is package ‘DiffBind’ version ‘2.10.0’
* checking package namespace information ... OK
* checking package dependencies ... OK
* checking if this is a source package ... OK
* checking if there is a namespace ... OK
* checking for hidden files and directories ... OK
* checking for portable file names ... OK
* checking for sufficient/correct file permissions ... OK
* checking whether package ‘DiffBind’ can be installed ... OK
* checking installed package size ... NOTE
installed size is 5.2Mb
sub-directories of 1Mb or more:
libs 3.4Mb
* checking package directory ... OK
* checking ‘build’ directory ... OK
* checking DESCRIPTION meta-information ... OK
* checking top-level files ... OK
* checking for left-over files ... OK
* checking index information ... OK
* checking package subdirectories ... OK
* checking R files for non-ASCII characters ... OK
* checking R files for syntax errors ... OK
* checking whether the package can be loaded ... OK
* checking whether the package can be loaded with stated dependencies ... OK
* checking whether the package can be unloaded cleanly ... OK
* checking whether the namespace can be loaded with stated dependencies ... OK
* checking whether the namespace can be unloaded cleanly ... OK
* checking dependencies in R code ... OK
* checking S3 generic/method consistency ... OK
* checking replacement functions ... OK
* checking foreign function calls ... OK
* checking R code for possible problems ... NOTE
pv.DBAplotVolcano: no visible binding for global variable ‘Fold’
pv.DBAplotVolcano: no visible binding for global variable ‘Legend’
Undefined global functions or variables:
Fold Legend
* checking Rd files ... OK
* checking Rd metadata ... OK
* checking Rd cross-references ... OK
* checking for missing documentation entries ... OK
* checking for code/documentation mismatches ... OK
* checking Rd \usage sections ... OK
* checking Rd contents ... OK
* checking for unstated dependencies in examples ... OK
* checking contents of ‘data’ directory ... OK
* checking data for non-ASCII characters ... OK
* checking data for ASCII and uncompressed saves ... OK
* checking line endings in C/C++/Fortran sources/headers ... OK
* checking line endings in Makefiles ... OK
* checking compilation flags in Makevars ... OK
* checking for GNU extensions in Makefiles ... OK
* checking for portable use of $(BLAS_LIBS) and $(LAPACK_LIBS) ... OK
* checking compiled code ... NOTE
Note: information on .o files is not available
File ‘/home/biocbuild/bbs-3.8-bioc/R/library/DiffBind/libs/DiffBind.so’:
Found ‘puts’, possibly from ‘printf’ (C), ‘puts’ (C)
Found ‘stderr’, possibly from ‘stderr’ (C)
Found ‘stdout’, possibly from ‘stdout’ (C)
Compiled code should not call entry points which might terminate R nor
write to stdout/stderr instead of to the console, nor use Fortran I/O
nor system RNGs. The detected symbols are linked into the code but
might come from libraries and not actually be called.
See ‘Writing portable packages’ in the ‘Writing R Extensions’ manual.
* checking files in ‘vignettes’ ... OK
* checking examples ... OK
Examples with CPU or elapsed time > 5s
user system elapsed
dba.plotVenn 120.548 0.040 120.935
dba.peakset 104.928 0.020 105.088
dba.count 32.572 0.024 32.683
dba.analyze 19.872 0.188 20.091
dba.report 19.288 0.032 19.372
dba 15.876 0.016 15.940
dba.plotHeatmap 12.020 0.016 11.868
dba.contrast 8.500 0.000 8.506
dba.overlap 8.372 0.004 8.386
* checking for unstated dependencies in ‘tests’ ... OK
* checking tests ...
Running ‘testthat.R’
OK
* checking for unstated dependencies in vignettes ... OK
* checking package vignettes in ‘inst/doc’ ... OK
* checking running R code from vignettes ... SKIPPED
* checking re-building of vignette outputs ... SKIPPED
* checking PDF version of manual ... OK
* DONE
Status: 3 NOTEs
See
‘/home/biocbuild/bbs-3.8-bioc/meat/DiffBind.Rcheck/00check.log’
for details.
DiffBind.Rcheck/00install.out
############################################################################## ############################################################################## ### ### Running command: ### ### /home/biocbuild/bbs-3.8-bioc/R/bin/R CMD INSTALL DiffBind ### ############################################################################## ############################################################################## * installing to library ‘/home/biocbuild/bbs-3.8-bioc/R/library’ * installing *source* package ‘DiffBind’ ... ** libs g++ -I"/home/biocbuild/bbs-3.8-bioc/R/include" -DNDEBUG -D_USE_KNETFILE -DBGZF_CACHE -D_FILE_OFFSET_BITS=64 -D_LARGEFILE64_SOURCE -I"/home/biocbuild/bbs-3.8-bioc/R/library/Rsamtools/include" -I"/home/biocbuild/bbs-3.8-bioc/R/library/Rcpp/include" -I/usr/local/include -fpic -g -O2 -Wall -c RcppExports.cpp -o RcppExports.o g++ -I"/home/biocbuild/bbs-3.8-bioc/R/include" -DNDEBUG -D_USE_KNETFILE -DBGZF_CACHE -D_FILE_OFFSET_BITS=64 -D_LARGEFILE64_SOURCE -I"/home/biocbuild/bbs-3.8-bioc/R/library/Rsamtools/include" -I"/home/biocbuild/bbs-3.8-bioc/R/library/Rcpp/include" -I/usr/local/include -fpic -g -O2 -Wall -c bamReader.cpp -o bamReader.o g++ -I"/home/biocbuild/bbs-3.8-bioc/R/include" -DNDEBUG -D_USE_KNETFILE -DBGZF_CACHE -D_FILE_OFFSET_BITS=64 -D_LARGEFILE64_SOURCE -I"/home/biocbuild/bbs-3.8-bioc/R/library/Rsamtools/include" -I"/home/biocbuild/bbs-3.8-bioc/R/library/Rcpp/include" -I/usr/local/include -fpic -g -O2 -Wall -c bedReader.cpp -o bedReader.o g++ -I"/home/biocbuild/bbs-3.8-bioc/R/include" -DNDEBUG -D_USE_KNETFILE -DBGZF_CACHE -D_FILE_OFFSET_BITS=64 -D_LARGEFILE64_SOURCE -I"/home/biocbuild/bbs-3.8-bioc/R/library/Rsamtools/include" -I"/home/biocbuild/bbs-3.8-bioc/R/library/Rcpp/include" -I/usr/local/include -fpic -g -O2 -Wall -c bitBucket.cpp -o bitBucket.o g++ -I"/home/biocbuild/bbs-3.8-bioc/R/include" -DNDEBUG -D_USE_KNETFILE -DBGZF_CACHE -D_FILE_OFFSET_BITS=64 -D_LARGEFILE64_SOURCE -I"/home/biocbuild/bbs-3.8-bioc/R/library/Rsamtools/include" -I"/home/biocbuild/bbs-3.8-bioc/R/library/Rcpp/include" -I/usr/local/include -fpic -g -O2 -Wall -c croi_func.cpp -o croi_func.o g++ -I"/home/biocbuild/bbs-3.8-bioc/R/include" -DNDEBUG -D_USE_KNETFILE -DBGZF_CACHE -D_FILE_OFFSET_BITS=64 -D_LARGEFILE64_SOURCE -I"/home/biocbuild/bbs-3.8-bioc/R/library/Rsamtools/include" -I"/home/biocbuild/bbs-3.8-bioc/R/library/Rcpp/include" -I/usr/local/include -fpic -g -O2 -Wall -c croi_main.cpp -o croi_main.o g++ -I"/home/biocbuild/bbs-3.8-bioc/R/include" -DNDEBUG -D_USE_KNETFILE -DBGZF_CACHE -D_FILE_OFFSET_BITS=64 -D_LARGEFILE64_SOURCE -I"/home/biocbuild/bbs-3.8-bioc/R/library/Rsamtools/include" -I"/home/biocbuild/bbs-3.8-bioc/R/library/Rcpp/include" -I/usr/local/include -fpic -g -O2 -Wall -c densitySet.cpp -o densitySet.o g++ -I"/home/biocbuild/bbs-3.8-bioc/R/include" -DNDEBUG -D_USE_KNETFILE -DBGZF_CACHE -D_FILE_OFFSET_BITS=64 -D_LARGEFILE64_SOURCE -I"/home/biocbuild/bbs-3.8-bioc/R/library/Rsamtools/include" -I"/home/biocbuild/bbs-3.8-bioc/R/library/Rcpp/include" -I/usr/local/include -fpic -g -O2 -Wall -c iBucket.cpp -o iBucket.o g++ -I"/home/biocbuild/bbs-3.8-bioc/R/include" -DNDEBUG -D_USE_KNETFILE -DBGZF_CACHE -D_FILE_OFFSET_BITS=64 -D_LARGEFILE64_SOURCE -I"/home/biocbuild/bbs-3.8-bioc/R/library/Rsamtools/include" -I"/home/biocbuild/bbs-3.8-bioc/R/library/Rcpp/include" -I/usr/local/include -fpic -g -O2 -Wall -c interval.cpp -o interval.o g++ -I"/home/biocbuild/bbs-3.8-bioc/R/include" -DNDEBUG -D_USE_KNETFILE -DBGZF_CACHE -D_FILE_OFFSET_BITS=64 -D_LARGEFILE64_SOURCE -I"/home/biocbuild/bbs-3.8-bioc/R/library/Rsamtools/include" -I"/home/biocbuild/bbs-3.8-bioc/R/library/Rcpp/include" -I/usr/local/include -fpic -g -O2 -Wall -c intervalDensity.cpp -o intervalDensity.o g++ -I"/home/biocbuild/bbs-3.8-bioc/R/include" -DNDEBUG -D_USE_KNETFILE -DBGZF_CACHE -D_FILE_OFFSET_BITS=64 -D_LARGEFILE64_SOURCE -I"/home/biocbuild/bbs-3.8-bioc/R/library/Rsamtools/include" -I"/home/biocbuild/bbs-3.8-bioc/R/library/Rcpp/include" -I/usr/local/include -fpic -g -O2 -Wall -c intervalNode.cpp -o intervalNode.o g++ -I"/home/biocbuild/bbs-3.8-bioc/R/include" -DNDEBUG -D_USE_KNETFILE -DBGZF_CACHE -D_FILE_OFFSET_BITS=64 -D_LARGEFILE64_SOURCE -I"/home/biocbuild/bbs-3.8-bioc/R/library/Rsamtools/include" -I"/home/biocbuild/bbs-3.8-bioc/R/library/Rcpp/include" -I/usr/local/include -fpic -g -O2 -Wall -c intervalSet.cpp -o intervalSet.o g++ -I"/home/biocbuild/bbs-3.8-bioc/R/include" -DNDEBUG -D_USE_KNETFILE -DBGZF_CACHE -D_FILE_OFFSET_BITS=64 -D_LARGEFILE64_SOURCE -I"/home/biocbuild/bbs-3.8-bioc/R/library/Rsamtools/include" -I"/home/biocbuild/bbs-3.8-bioc/R/library/Rcpp/include" -I/usr/local/include -fpic -g -O2 -Wall -c intervalTree.cpp -o intervalTree.o g++ -I"/home/biocbuild/bbs-3.8-bioc/R/include" -DNDEBUG -D_USE_KNETFILE -DBGZF_CACHE -D_FILE_OFFSET_BITS=64 -D_LARGEFILE64_SOURCE -I"/home/biocbuild/bbs-3.8-bioc/R/library/Rsamtools/include" -I"/home/biocbuild/bbs-3.8-bioc/R/library/Rcpp/include" -I/usr/local/include -fpic -g -O2 -Wall -c merge.cpp -o merge.o gcc -I"/home/biocbuild/bbs-3.8-bioc/R/include" -DNDEBUG -D_USE_KNETFILE -DBGZF_CACHE -D_FILE_OFFSET_BITS=64 -D_LARGEFILE64_SOURCE -I"/home/biocbuild/bbs-3.8-bioc/R/library/Rsamtools/include" -I"/home/biocbuild/bbs-3.8-bioc/R/library/Rcpp/include" -I/usr/local/include -fpic -g -O2 -Wall -c mergeOne.c -o mergeOne.o g++ -I"/home/biocbuild/bbs-3.8-bioc/R/include" -DNDEBUG -D_USE_KNETFILE -DBGZF_CACHE -D_FILE_OFFSET_BITS=64 -D_LARGEFILE64_SOURCE -I"/home/biocbuild/bbs-3.8-bioc/R/library/Rsamtools/include" -I"/home/biocbuild/bbs-3.8-bioc/R/library/Rcpp/include" -I/usr/local/include -fpic -g -O2 -Wall -c nodeGroup.cpp -o nodeGroup.o g++ -I"/home/biocbuild/bbs-3.8-bioc/R/include" -DNDEBUG -D_USE_KNETFILE -DBGZF_CACHE -D_FILE_OFFSET_BITS=64 -D_LARGEFILE64_SOURCE -I"/home/biocbuild/bbs-3.8-bioc/R/library/Rsamtools/include" -I"/home/biocbuild/bbs-3.8-bioc/R/library/Rcpp/include" -I/usr/local/include -fpic -g -O2 -Wall -c peakOrder.cpp -o peakOrder.o g++ -I"/home/biocbuild/bbs-3.8-bioc/R/include" -DNDEBUG -D_USE_KNETFILE -DBGZF_CACHE -D_FILE_OFFSET_BITS=64 -D_LARGEFILE64_SOURCE -I"/home/biocbuild/bbs-3.8-bioc/R/library/Rsamtools/include" -I"/home/biocbuild/bbs-3.8-bioc/R/library/Rcpp/include" -I/usr/local/include -fpic -g -O2 -Wall -c reader.cpp -o reader.o g++ -I"/home/biocbuild/bbs-3.8-bioc/R/include" -DNDEBUG -D_USE_KNETFILE -DBGZF_CACHE -D_FILE_OFFSET_BITS=64 -D_LARGEFILE64_SOURCE -I"/home/biocbuild/bbs-3.8-bioc/R/library/Rsamtools/include" -I"/home/biocbuild/bbs-3.8-bioc/R/library/Rcpp/include" -I/usr/local/include -fpic -g -O2 -Wall -c sequence.cpp -o sequence.o g++ -I"/home/biocbuild/bbs-3.8-bioc/R/include" -DNDEBUG -D_USE_KNETFILE -DBGZF_CACHE -D_FILE_OFFSET_BITS=64 -D_LARGEFILE64_SOURCE -I"/home/biocbuild/bbs-3.8-bioc/R/library/Rsamtools/include" -I"/home/biocbuild/bbs-3.8-bioc/R/library/Rcpp/include" -I/usr/local/include -fpic -g -O2 -Wall -c util.cpp -o util.o g++ -shared -L/home/biocbuild/bbs-3.8-bioc/R/lib -L/usr/local/lib -o DiffBind.so RcppExports.o bamReader.o bedReader.o bitBucket.o croi_func.o croi_main.o densitySet.o iBucket.o interval.o intervalDensity.o intervalNode.o intervalSet.o intervalTree.o merge.o mergeOne.o nodeGroup.o peakOrder.o reader.o sequence.o util.o /home/biocbuild/bbs-3.8-bioc/R/library/Rsamtools/usrlib//libbam.a /home/biocbuild/bbs-3.8-bioc/R/library/Rsamtools/usrlib//libbcf.a /home/biocbuild/bbs-3.8-bioc/R/library/Rsamtools/usrlib//libtabix.a -lz -pthread -L/home/biocbuild/bbs-3.8-bioc/R/lib -lR installing to /home/biocbuild/bbs-3.8-bioc/R/library/DiffBind/libs ** R ** data ** inst ** byte-compile and prepare package for lazy loading ** help *** installing help indices ** building package indices ** installing vignettes ** testing if installed package can be loaded * DONE (DiffBind)
DiffBind.Rcheck/tests/testthat.Rout
R version 3.5.3 (2019-03-11) -- "Great Truth"
Copyright (C) 2019 The R Foundation for Statistical Computing
Platform: x86_64-pc-linux-gnu (64-bit)
R is free software and comes with ABSOLUTELY NO WARRANTY.
You are welcome to redistribute it under certain conditions.
Type 'license()' or 'licence()' for distribution details.
R is a collaborative project with many contributors.
Type 'contributors()' for more information and
'citation()' on how to cite R or R packages in publications.
Type 'demo()' for some demos, 'help()' for on-line help, or
'help.start()' for an HTML browser interface to help.
Type 'q()' to quit R.
> library(testthat)
> library(DiffBind)
Loading required package: GenomicRanges
Loading required package: stats4
Loading required package: BiocGenerics
Loading required package: parallel
Attaching package: 'BiocGenerics'
The following objects are masked from 'package:parallel':
clusterApply, clusterApplyLB, clusterCall, clusterEvalQ,
clusterExport, clusterMap, parApply, parCapply, parLapply,
parLapplyLB, parRapply, parSapply, parSapplyLB
The following objects are masked from 'package:stats':
IQR, mad, sd, var, xtabs
The following objects are masked from 'package:base':
Filter, Find, Map, Position, Reduce, anyDuplicated, append,
as.data.frame, basename, cbind, colMeans, colSums, colnames,
dirname, do.call, duplicated, eval, evalq, get, grep, grepl,
intersect, is.unsorted, lapply, lengths, mapply, match, mget,
order, paste, pmax, pmax.int, pmin, pmin.int, rank, rbind,
rowMeans, rowSums, rownames, sapply, setdiff, sort, table, tapply,
union, unique, unsplit, which, which.max, which.min
Loading required package: S4Vectors
Attaching package: 'S4Vectors'
The following object is masked from 'package:base':
expand.grid
Loading required package: IRanges
Loading required package: GenomeInfoDb
Loading required package: SummarizedExperiment
Loading required package: Biobase
Welcome to Bioconductor
Vignettes contain introductory material; view with
'browseVignettes()'. To cite Bioconductor, see
'citation("Biobase")', and for packages 'citation("pkgname")'.
Loading required package: DelayedArray
Loading required package: matrixStats
Attaching package: 'matrixStats'
The following objects are masked from 'package:Biobase':
anyMissing, rowMedians
Loading required package: BiocParallel
Attaching package: 'DelayedArray'
The following objects are masked from 'package:matrixStats':
colMaxs, colMins, colRanges, rowMaxs, rowMins, rowRanges
The following objects are masked from 'package:base':
aperm, apply
>
> test_check("DiffBind")
══ testthat results ═══════════════════════════════════════════════════════════
OK: 74 SKIPPED: 0 FAILED: 0
>
> proc.time()
user system elapsed
36.872 0.704 37.699
DiffBind.Rcheck/DiffBind-Ex.timings
| name | user | system | elapsed | |
| dba | 15.876 | 0.016 | 15.940 | |
| dba.analyze | 19.872 | 0.188 | 20.091 | |
| dba.contrast | 8.500 | 0.000 | 8.506 | |
| dba.count | 32.572 | 0.024 | 32.683 | |
| dba.load | 4.040 | 0.004 | 4.057 | |
| dba.mask | 2.832 | 0.000 | 2.832 | |
| dba.overlap | 8.372 | 0.004 | 8.386 | |
| dba.peakset | 104.928 | 0.020 | 105.088 | |
| dba.plotBox | 0.296 | 0.012 | 0.338 | |
| dba.plotHeatmap | 12.020 | 0.016 | 11.868 | |
| dba.plotMA | 0.524 | 0.012 | 0.535 | |
| dba.plotPCA | 1.220 | 0.004 | 1.224 | |
| dba.plotVenn | 120.548 | 0.040 | 120.935 | |
| dba.plotVolcano | 1.472 | 0.004 | 1.483 | |
| dba.report | 19.288 | 0.032 | 19.372 | |
| dba.save | 0 | 0 | 0 | |
| dba.show | 0.188 | 0.000 | 0.189 | |
| print.DBA | 0.132 | 0.000 | 0.135 | |
| tamoxifen | 0.420 | 0.008 | 0.431 | |