| Back to Multiple platform build/check report for BioC 3.8 |
|
This page was generated on 2019-04-13 11:29:07 -0400 (Sat, 13 Apr 2019).
| Package 81/1649 | Hostname | OS / Arch | INSTALL | BUILD | CHECK | BUILD BIN | ||||||
| ASICS 1.2.0 Gaƫlle Lefort
| malbec1 | Linux (Ubuntu 16.04.6 LTS) / x86_64 | OK | OK | OK | |||||||
| tokay1 | Windows Server 2012 R2 Standard / x64 | OK | OK | OK | [ OK ] | |||||||
| merida1 | OS X 10.11.6 El Capitan / x86_64 | OK | OK | OK | OK |
| Package: ASICS |
| Version: 1.2.0 |
| Command: rm -rf ASICS.buildbin-libdir && mkdir ASICS.buildbin-libdir && C:\Users\biocbuild\bbs-3.8-bioc\R\bin\R.exe CMD INSTALL --merge-multiarch --build --library=ASICS.buildbin-libdir ASICS_1.2.0.tar.gz |
| StartedAt: 2019-04-13 06:54:54 -0400 (Sat, 13 Apr 2019) |
| EndedAt: 2019-04-13 06:55:57 -0400 (Sat, 13 Apr 2019) |
| EllapsedTime: 62.5 seconds |
| RetCode: 0 |
| Status: OK |
| PackageFile: ASICS_1.2.0.zip |
| PackageFileSize: 3.056 MiB |
##############################################################################
##############################################################################
###
### Running command:
###
### rm -rf ASICS.buildbin-libdir && mkdir ASICS.buildbin-libdir && C:\Users\biocbuild\bbs-3.8-bioc\R\bin\R.exe CMD INSTALL --merge-multiarch --build --library=ASICS.buildbin-libdir ASICS_1.2.0.tar.gz
###
##############################################################################
##############################################################################
install for i386
* installing *source* package 'ASICS' ...
** R
** data
*** moving datasets to lazyload DB
** inst
** byte-compile and prepare package for lazy loading
** help
*** installing help indices
converting help for package 'ASICS'
finding HTML links ... done
ASICS html
ASICSResults-class html
ASICSUsersGuide html
AnalysisResults-class html
finding level-2 HTML links ... done
PureLibrary-class html
Spectra-class html
accessors-methods html
alignment html
baselineCorrection html
binning html
combineAndSubset-methods html
createPureLibrary html
createSpectra html
formatForAnalysis html
importSpectraBruker html
kruskalWallis html
normalisation html
oplsda html
pca html
pure_library html
summary-methods html
visualisation-methods-analyses html
visualisation-methods-spectra html
** building package indices
** installing vignettes
** testing if installed package can be loaded
In R CMD INSTALL
install for x64
* installing *source* package 'ASICS' ...
** testing if installed package can be loaded
* MD5 sums
packaged installation of 'ASICS' as ASICS_1.2.0.zip
* DONE (ASICS)
In R CMD INSTALL
In R CMD INSTALL