| Back to Multiple platform build/check report for BioC 3.7 experimental data |
This page was generated on 2018-10-16 14:16:34 -0400 (Tue, 16 Oct 2018).
| Package 3/342 | Hostname | OS / Arch | INSTALL | BUILD | CHECK | BUILD BIN | ||||||
| affydata 1.28.0 Harris Jaffee
| malbec2 | Linux (Ubuntu 16.04.1 LTS) / x86_64 | [ OK ] | OK | WARNINGS |
| Package: affydata |
| Version: 1.28.0 |
| Command: /home/biocbuild/bbs-3.7-bioc/R/bin/R CMD INSTALL affydata |
| StartedAt: 2018-10-16 09:02:45 -0400 (Tue, 16 Oct 2018) |
| EndedAt: 2018-10-16 09:02:56 -0400 (Tue, 16 Oct 2018) |
| EllapsedTime: 10.7 seconds |
| RetCode: 0 |
| Status: OK |
##############################################################################
##############################################################################
###
### Running command:
###
### /home/biocbuild/bbs-3.7-bioc/R/bin/R CMD INSTALL affydata
###
##############################################################################
##############################################################################
* installing to library ‘/home/biocbuild/bbs-3.7-bioc/R/library’
* installing *source* package ‘affydata’ ...
** R
** data
** inst
** byte-compile and prepare package for lazy loading
** help
*** installing help indices
** building package indices
** installing vignettes
** testing if installed package can be loaded
Package LibPath Item
[1,] "affydata" "/home/biocbuild/bbs-3.7-bioc/R/library" "Dilution"
Title
[1,] "AffyBatch instance Dilution"
* DONE (affydata)