| Back to Multiple platform build/check report for BioC 3.7 experimental data |
This page was generated on 2018-10-16 14:17:48 -0400 (Tue, 16 Oct 2018).
| Package 319/342 | Hostname | OS / Arch | INSTALL | BUILD | CHECK | BUILD BIN | ||||||
| TCGAMethylation450k 1.16.0 Sean Davis
| malbec2 | Linux (Ubuntu 16.04.1 LTS) / x86_64 | [ OK ] | OK | OK |
| Package: TCGAMethylation450k |
| Version: 1.16.0 |
| Command: /home/biocbuild/bbs-3.7-bioc/R/bin/R CMD INSTALL TCGAMethylation450k |
| StartedAt: 2018-10-16 09:01:06 -0400 (Tue, 16 Oct 2018) |
| EndedAt: 2018-10-16 09:01:35 -0400 (Tue, 16 Oct 2018) |
| EllapsedTime: 28.7 seconds |
| RetCode: 0 |
| Status: OK |
############################################################################## ############################################################################## ### ### Running command: ### ### /home/biocbuild/bbs-3.7-bioc/R/bin/R CMD INSTALL TCGAMethylation450k ### ############################################################################## ############################################################################## * installing to library ‘/home/biocbuild/bbs-3.7-bioc/R/library’ * installing *source* package ‘TCGAMethylation450k’ ... ** inst ** help *** installing help indices ** building package indices ** testing if installed package can be loaded * DONE (TCGAMethylation450k)