| Back to Multiple platform build/check report for BioC 3.7 experimental data |
This page was generated on 2018-10-16 14:18:03 -0400 (Tue, 16 Oct 2018).
| Package 315/342 | Hostname | OS / Arch | INSTALL | BUILD | CHECK | BUILD BIN | ||||||
| TBX20BamSubset 1.16.0 D. Bindreither
| malbec2 | Linux (Ubuntu 16.04.1 LTS) / x86_64 | [ OK ] | OK | OK |
| Package: TBX20BamSubset |
| Version: 1.16.0 |
| Command: /home/biocbuild/bbs-3.7-bioc/R/bin/R CMD INSTALL TBX20BamSubset |
| StartedAt: 2018-10-16 09:05:00 -0400 (Tue, 16 Oct 2018) |
| EndedAt: 2018-10-16 09:05:21 -0400 (Tue, 16 Oct 2018) |
| EllapsedTime: 21.1 seconds |
| RetCode: 0 |
| Status: OK |
############################################################################## ############################################################################## ### ### Running command: ### ### /home/biocbuild/bbs-3.7-bioc/R/bin/R CMD INSTALL TBX20BamSubset ### ############################################################################## ############################################################################## * installing to library ‘/home/biocbuild/bbs-3.7-bioc/R/library’ * installing *source* package ‘TBX20BamSubset’ ... ** R ** inst ** byte-compile and prepare package for lazy loading ** help *** installing help indices ** building package indices ** installing vignettes ** testing if installed package can be loaded * DONE (TBX20BamSubset)