| Back to Multiple platform build/check report for BioC 3.7 experimental data |
This page was generated on 2018-10-16 14:18:03 -0400 (Tue, 16 Oct 2018).
| Package 315/342 | Hostname | OS / Arch | INSTALL | BUILD | CHECK | BUILD BIN | ||||||
| TBX20BamSubset 1.16.0 D. Bindreither
| malbec2 | Linux (Ubuntu 16.04.1 LTS) / x86_64 | OK | [ OK ] | OK |
| Package: TBX20BamSubset |
| Version: 1.16.0 |
| Command: /home/biocbuild/bbs-3.7-bioc/R/bin/R CMD build --keep-empty-dirs --no-resave-data TBX20BamSubset |
| StartedAt: 2018-10-16 09:27:57 -0400 (Tue, 16 Oct 2018) |
| EndedAt: 2018-10-16 09:28:42 -0400 (Tue, 16 Oct 2018) |
| EllapsedTime: 44.9 seconds |
| RetCode: 0 |
| Status: OK |
| PackageFile: TBX20BamSubset_1.16.0.tar.gz |
| PackageFileSize: 94.68 MiB |
############################################################################## ############################################################################## ### ### Running command: ### ### /home/biocbuild/bbs-3.7-bioc/R/bin/R CMD build --keep-empty-dirs --no-resave-data TBX20BamSubset ### ############################################################################## ############################################################################## * checking for file ‘TBX20BamSubset/DESCRIPTION’ ... OK * preparing ‘TBX20BamSubset’: * checking DESCRIPTION meta-information ... OK * installing the package to build vignettes * creating vignettes ... OK * checking for LF line-endings in source and make files and shell scripts * checking for empty or unneeded directories * building ‘TBX20BamSubset_1.16.0.tar.gz’