| Back to Multiple platform build/check report for BioC 3.7 experimental data |
This page was generated on 2018-10-16 14:18:04 -0400 (Tue, 16 Oct 2018).
| Package 194/342 | Hostname | OS / Arch | INSTALL | BUILD | CHECK | BUILD BIN | ||||||
| MEDIPSData 1.16.0 Lukas Chavez
| malbec2 | Linux (Ubuntu 16.04.1 LTS) / x86_64 | [ OK ] | OK | OK |
| Package: MEDIPSData |
| Version: 1.16.0 |
| Command: /home/biocbuild/bbs-3.7-bioc/R/bin/R CMD INSTALL MEDIPSData |
| StartedAt: 2018-10-16 08:57:49 -0400 (Tue, 16 Oct 2018) |
| EndedAt: 2018-10-16 08:58:14 -0400 (Tue, 16 Oct 2018) |
| EllapsedTime: 25.1 seconds |
| RetCode: 0 |
| Status: OK |
############################################################################## ############################################################################## ### ### Running command: ### ### /home/biocbuild/bbs-3.7-bioc/R/bin/R CMD INSTALL MEDIPSData ### ############################################################################## ############################################################################## * installing to library ‘/home/biocbuild/bbs-3.7-bioc/R/library’ * installing *source* package ‘MEDIPSData’ ... ** data ** inst ** help *** installing help indices ** building package indices ** testing if installed package can be loaded * DONE (MEDIPSData)