| Back to Multiple platform build/check report for BioC 3.7 experimental data |
This page was generated on 2018-10-16 14:18:04 -0400 (Tue, 16 Oct 2018).
| Package 194/342 | Hostname | OS / Arch | INSTALL | BUILD | CHECK | BUILD BIN | ||||||
| MEDIPSData 1.16.0 Lukas Chavez
| malbec2 | Linux (Ubuntu 16.04.1 LTS) / x86_64 | OK | [ OK ] | OK |
| Package: MEDIPSData |
| Version: 1.16.0 |
| Command: /home/biocbuild/bbs-3.7-bioc/R/bin/R CMD build --keep-empty-dirs --no-resave-data MEDIPSData |
| StartedAt: 2018-10-16 09:27:59 -0400 (Tue, 16 Oct 2018) |
| EndedAt: 2018-10-16 09:28:20 -0400 (Tue, 16 Oct 2018) |
| EllapsedTime: 20.9 seconds |
| RetCode: 0 |
| Status: OK |
| PackageFile: MEDIPSData_1.16.0.tar.gz |
| PackageFileSize: 163.1 MiB |
############################################################################## ############################################################################## ### ### Running command: ### ### /home/biocbuild/bbs-3.7-bioc/R/bin/R CMD build --keep-empty-dirs --no-resave-data MEDIPSData ### ############################################################################## ############################################################################## * checking for file ‘MEDIPSData/DESCRIPTION’ ... OK * preparing ‘MEDIPSData’: * checking DESCRIPTION meta-information ... OK * checking for LF line-endings in source and make files and shell scripts * checking for empty or unneeded directories * looking to see if a ‘data/datalist’ file should be added * building ‘MEDIPSData_1.16.0.tar.gz’