| Back to Multiple platform build/check report for BioC 3.7 experimental data |
This page was generated on 2018-10-16 14:18:25 -0400 (Tue, 16 Oct 2018).
| Package 83/342 | Hostname | OS / Arch | INSTALL | BUILD | CHECK | BUILD BIN | ||||||
| DonaPLLP2013 1.18.0 Joseph D. Barry
| malbec2 | Linux (Ubuntu 16.04.1 LTS) / x86_64 | [ OK ] | OK | OK |
| Package: DonaPLLP2013 |
| Version: 1.18.0 |
| Command: /home/biocbuild/bbs-3.7-bioc/R/bin/R CMD INSTALL DonaPLLP2013 |
| StartedAt: 2018-10-16 09:06:19 -0400 (Tue, 16 Oct 2018) |
| EndedAt: 2018-10-16 09:06:32 -0400 (Tue, 16 Oct 2018) |
| EllapsedTime: 12.8 seconds |
| RetCode: 0 |
| Status: OK |
############################################################################## ############################################################################## ### ### Running command: ### ### /home/biocbuild/bbs-3.7-bioc/R/bin/R CMD INSTALL DonaPLLP2013 ### ############################################################################## ############################################################################## * installing to library ‘/home/biocbuild/bbs-3.7-bioc/R/library’ * installing *source* package ‘DonaPLLP2013’ ... ** data ** inst ** help *** installing help indices ** building package indices ** installing vignettes ** testing if installed package can be loaded * DONE (DonaPLLP2013)