| Back to Multiple platform build/check report for BioC 3.7 experimental data |
This page was generated on 2018-10-16 14:18:25 -0400 (Tue, 16 Oct 2018).
| Package 83/342 | Hostname | OS / Arch | INSTALL | BUILD | CHECK | BUILD BIN | ||||||
| DonaPLLP2013 1.18.0 Joseph D. Barry
| malbec2 | Linux (Ubuntu 16.04.1 LTS) / x86_64 | OK | [ OK ] | OK |
| Package: DonaPLLP2013 |
| Version: 1.18.0 |
| Command: /home/biocbuild/bbs-3.7-bioc/R/bin/R CMD build --keep-empty-dirs --no-resave-data DonaPLLP2013 |
| StartedAt: 2018-10-16 09:36:51 -0400 (Tue, 16 Oct 2018) |
| EndedAt: 2018-10-16 09:43:38 -0400 (Tue, 16 Oct 2018) |
| EllapsedTime: 407.9 seconds |
| RetCode: 0 |
| Status: OK |
| PackageFile: DonaPLLP2013_1.18.0.tar.gz |
| PackageFileSize: 93.86 MiB |
############################################################################## ############################################################################## ### ### Running command: ### ### /home/biocbuild/bbs-3.7-bioc/R/bin/R CMD build --keep-empty-dirs --no-resave-data DonaPLLP2013 ### ############################################################################## ############################################################################## * checking for file ‘DonaPLLP2013/DESCRIPTION’ ... OK * preparing ‘DonaPLLP2013’: * checking DESCRIPTION meta-information ... OK * installing the package to build vignettes * creating vignettes ... OK * checking for LF line-endings in source and make files and shell scripts * checking for empty or unneeded directories * looking to see if a ‘data/datalist’ file should be added * building ‘DonaPLLP2013_1.18.0.tar.gz’