| Back to Multiple platform build/check report for BioC 3.7 |
|
This page was generated on 2018-10-17 08:45:24 -0400 (Wed, 17 Oct 2018).
| Package 1509/1561 | Hostname | OS / Arch | INSTALL | BUILD | CHECK | BUILD BIN | ||||||
| tRNAscanImport 1.0.1 Felix GM Ernst
| malbec2 | Linux (Ubuntu 16.04.1 LTS) / x86_64 | OK | OK | OK | |||||||
| tokay2 | Windows Server 2012 R2 Standard / x64 | OK | OK | OK | [ OK ] | |||||||
| merida2 | OS X 10.11.6 El Capitan / x86_64 | OK | OK | OK | OK |
| Package: tRNAscanImport |
| Version: 1.0.1 |
| Command: rm -rf tRNAscanImport.buildbin-libdir && mkdir tRNAscanImport.buildbin-libdir && C:\Users\biocbuild\bbs-3.7-bioc\R\bin\R.exe CMD INSTALL --merge-multiarch --build --library=tRNAscanImport.buildbin-libdir tRNAscanImport_1.0.1.tar.gz |
| StartedAt: 2018-10-17 07:05:36 -0400 (Wed, 17 Oct 2018) |
| EndedAt: 2018-10-17 07:06:16 -0400 (Wed, 17 Oct 2018) |
| EllapsedTime: 40.4 seconds |
| RetCode: 0 |
| Status: OK |
| PackageFile: tRNAscanImport_1.0.1.zip |
| PackageFileSize: 476.3 KiB |
##############################################################################
##############################################################################
###
### Running command:
###
### rm -rf tRNAscanImport.buildbin-libdir && mkdir tRNAscanImport.buildbin-libdir && C:\Users\biocbuild\bbs-3.7-bioc\R\bin\R.exe CMD INSTALL --merge-multiarch --build --library=tRNAscanImport.buildbin-libdir tRNAscanImport_1.0.1.tar.gz
###
##############################################################################
##############################################################################
install for i386
* installing *source* package 'tRNAscanImport' ...
** R
** inst
** byte-compile and prepare package for lazy loading
** help
*** installing help indices
converting help for package 'tRNAscanImport'
finding HTML links ... done
gettRNAscanSummary html
import.tRNAscanAsGRanges html
** building package indices
** installing vignettes
** testing if installed package can be loaded
In R CMD INSTALL
install for x64
* installing *source* package 'tRNAscanImport' ...
** testing if installed package can be loaded
* MD5 sums
packaged installation of 'tRNAscanImport' as tRNAscanImport_1.0.1.zip
* DONE (tRNAscanImport)
In R CMD INSTALL
In R CMD INSTALL