| Back to Multiple platform build/check report for BioC 3.7 | 
  | 
This page was generated on 2018-10-17 08:59:40 -0400 (Wed, 17 Oct 2018).
| Package 1509/1561 | Hostname | OS / Arch | INSTALL | BUILD | CHECK | BUILD BIN | ||||||
| tRNAscanImport 1.0.1 Felix GM Ernst 
  | malbec2 | Linux (Ubuntu 16.04.1 LTS) / x86_64 | OK | OK | OK | |||||||
| tokay2 | Windows Server 2012 R2 Standard / x64 | OK | OK | OK | OK | |||||||
| merida2 | OS X 10.11.6 El Capitan / x86_64 | OK | [ OK ] | OK | OK | 
| Package: tRNAscanImport | 
| Version: 1.0.1 | 
| Command: /Library/Frameworks/R.framework/Versions/Current/Resources/bin/R CMD build --keep-empty-dirs --no-resave-data tRNAscanImport | 
| StartedAt: 2018-10-16 19:06:30 -0400 (Tue, 16 Oct 2018) | 
| EndedAt: 2018-10-16 19:07:19 -0400 (Tue, 16 Oct 2018) | 
| EllapsedTime: 49.1 seconds | 
| RetCode: 0 | 
| Status: OK | 
| PackageFile: tRNAscanImport_1.0.1.tar.gz | 
| PackageFileSize: 861.8 KiB | 
############################################################################## ############################################################################## ### ### Running command: ### ### /Library/Frameworks/R.framework/Versions/Current/Resources/bin/R CMD build --keep-empty-dirs --no-resave-data tRNAscanImport ### ############################################################################## ############################################################################## * checking for file ‘tRNAscanImport/DESCRIPTION’ ... OK * preparing ‘tRNAscanImport’: * checking DESCRIPTION meta-information ... OK * installing the package to build vignettes * creating vignettes ... OK * checking for LF line-endings in source and make files and shell scripts * checking for empty or unneeded directories * building ‘tRNAscanImport_1.0.1.tar.gz’