| Back to Multiple platform build/check report for BioC 3.7 |
|
This page was generated on 2018-10-17 08:57:14 -0400 (Wed, 17 Oct 2018).
| Package 1439/1561 | Hostname | OS / Arch | INSTALL | BUILD | CHECK | BUILD BIN | ||||||
| statTarget 1.10.0 Hemi Luan
| malbec2 | Linux (Ubuntu 16.04.1 LTS) / x86_64 | OK | OK | OK | |||||||
| tokay2 | Windows Server 2012 R2 Standard / x64 | OK | OK | OK | OK | |||||||
| merida2 | OS X 10.11.6 El Capitan / x86_64 | OK | OK | OK | [ OK ] |
| Package: statTarget |
| Version: 1.10.0 |
| Command: rm -rf statTarget.buildbin-libdir && mkdir statTarget.buildbin-libdir && /Users/biocbuild/BBS/utils/build-universal.sh statTarget_1.10.0.tar.gz /Library/Frameworks/R.framework/Versions/Current/Resources/bin/R statTarget.buildbin-libdir |
| StartedAt: 2018-10-17 02:13:57 -0400 (Wed, 17 Oct 2018) |
| EndedAt: 2018-10-17 02:14:51 -0400 (Wed, 17 Oct 2018) |
| EllapsedTime: 54.6 seconds |
| RetCode: 0 |
| Status: OK |
| PackageFile: statTarget_1.10.0.tgz |
| PackageFileSize: 830.7 KiB |
############################################################################## ############################################################################## ### ### Running command: ### ### rm -rf statTarget.buildbin-libdir && mkdir statTarget.buildbin-libdir && /Users/biocbuild/BBS/utils/build-universal.sh statTarget_1.10.0.tar.gz /Library/Frameworks/R.framework/Versions/Current/Resources/bin/R statTarget.buildbin-libdir ### ############################################################################## ############################################################################## >>>>>>> >>>>>>> INSTALLATION WITH 'R CMD INSTALL --preclean --no-multiarch --library=statTarget.buildbin-libdir statTarget_1.10.0.tar.gz' >>>>>>> * installing *source* package ‘statTarget’ ... ** R ** inst ** byte-compile and prepare package for lazy loading ** help *** installing help indices ** building package indices ** installing vignettes ** testing if installed package can be loaded * DONE (statTarget)