| Back to Multiple platform build/check report for BioC 3.7 |
|
This page was generated on 2018-10-17 08:44:50 -0400 (Wed, 17 Oct 2018).
| Package 1433/1561 | Hostname | OS / Arch | INSTALL | BUILD | CHECK | BUILD BIN | ||||||
| stageR 1.2.22 Koen Van den Berge
| malbec2 | Linux (Ubuntu 16.04.1 LTS) / x86_64 | OK | OK | WARNINGS | |||||||
| tokay2 | Windows Server 2012 R2 Standard / x64 | OK | OK | WARNINGS | [ OK ] | |||||||
| merida2 | OS X 10.11.6 El Capitan / x86_64 | OK | OK | WARNINGS | OK |
| Package: stageR |
| Version: 1.2.22 |
| Command: rm -rf stageR.buildbin-libdir && mkdir stageR.buildbin-libdir && C:\Users\biocbuild\bbs-3.7-bioc\R\bin\R.exe CMD INSTALL --merge-multiarch --build --library=stageR.buildbin-libdir stageR_1.2.22.tar.gz |
| StartedAt: 2018-10-17 07:02:32 -0400 (Wed, 17 Oct 2018) |
| EndedAt: 2018-10-17 07:03:06 -0400 (Wed, 17 Oct 2018) |
| EllapsedTime: 33.5 seconds |
| RetCode: 0 |
| Status: OK |
| PackageFile: stageR_1.2.22.zip |
| PackageFileSize: 1.033 MiB |
##############################################################################
##############################################################################
###
### Running command:
###
### rm -rf stageR.buildbin-libdir && mkdir stageR.buildbin-libdir && C:\Users\biocbuild\bbs-3.7-bioc\R\bin\R.exe CMD INSTALL --merge-multiarch --build --library=stageR.buildbin-libdir stageR_1.2.22.tar.gz
###
##############################################################################
##############################################################################
install for i386
* installing *source* package 'stageR' ...
** R
** data
*** moving datasets to lazyload DB
** inst
** byte-compile and prepare package for lazy loading
** help
*** installing help indices
converting help for package 'stageR'
finding HTML links ... done
adjustedAlphaLevel html
esetProstate html
getAdjustedPValues html
finding level-2 HTML links ... done
Rd warning: C:/Users/biocbuild/bbs-3.7-bioc/tmpdir/Rtmp6BoFTp/R.INSTALL14f4b16152a/stageR/man/getAdjustedPValues.Rd:34: missing link 'stageWiseAdjustment,stageR,character,numeric-method'
getAlpha html
getMethod html
getPConfirmation html
getPScreen html
getResults html
getSignificantGenes html
getSignificantTx html
getTx2gene html
hammer.eset html
isAdjusted html
isPScreenAdjusted html
stageR html
stageRClass html
Rd warning: C:/Users/biocbuild/bbs-3.7-bioc/tmpdir/Rtmp6BoFTp/R.INSTALL14f4b16152a/stageR/man/stageRClass.Rd:19: missing link 'getAdjustedPValues,stageR,logical,logical-method'
Rd warning: C:/Users/biocbuild/bbs-3.7-bioc/tmpdir/Rtmp6BoFTp/R.INSTALL14f4b16152a/stageR/man/stageRClass.Rd:19: missing link 'getResults,stageR-method'
stageRTx html
stageWiseAdjustment html
** building package indices
** installing vignettes
** testing if installed package can be loaded
In R CMD INSTALL
install for x64
* installing *source* package 'stageR' ...
** testing if installed package can be loaded
* MD5 sums
packaged installation of 'stageR' as stageR_1.2.22.zip
* DONE (stageR)
In R CMD INSTALL
In R CMD INSTALL