| Back to Multiple platform build/check report for BioC 3.7 |
|
This page was generated on 2018-10-17 08:59:05 -0400 (Wed, 17 Oct 2018).
| Package 1433/1561 | Hostname | OS / Arch | INSTALL | BUILD | CHECK | BUILD BIN | ||||||
| stageR 1.2.22 Koen Van den Berge
| malbec2 | Linux (Ubuntu 16.04.1 LTS) / x86_64 | OK | OK | WARNINGS | |||||||
| tokay2 | Windows Server 2012 R2 Standard / x64 | OK | OK | WARNINGS | OK | |||||||
| merida2 | OS X 10.11.6 El Capitan / x86_64 | OK | OK | WARNINGS | [ OK ] |
| Package: stageR |
| Version: 1.2.22 |
| Command: rm -rf stageR.buildbin-libdir && mkdir stageR.buildbin-libdir && /Users/biocbuild/BBS/utils/build-universal.sh stageR_1.2.22.tar.gz /Library/Frameworks/R.framework/Versions/Current/Resources/bin/R stageR.buildbin-libdir |
| StartedAt: 2018-10-17 02:13:18 -0400 (Wed, 17 Oct 2018) |
| EndedAt: 2018-10-17 02:14:32 -0400 (Wed, 17 Oct 2018) |
| EllapsedTime: 74.2 seconds |
| RetCode: 0 |
| Status: OK |
| PackageFile: stageR_1.2.22.tgz |
| PackageFileSize: 1.191 MiB |
############################################################################## ############################################################################## ### ### Running command: ### ### rm -rf stageR.buildbin-libdir && mkdir stageR.buildbin-libdir && /Users/biocbuild/BBS/utils/build-universal.sh stageR_1.2.22.tar.gz /Library/Frameworks/R.framework/Versions/Current/Resources/bin/R stageR.buildbin-libdir ### ############################################################################## ############################################################################## >>>>>>> >>>>>>> INSTALLATION WITH 'R CMD INSTALL --preclean --no-multiarch --library=stageR.buildbin-libdir stageR_1.2.22.tar.gz' >>>>>>> * installing *source* package ‘stageR’ ... ** R ** data *** moving datasets to lazyload DB ** inst ** byte-compile and prepare package for lazy loading ** help *** installing help indices ** building package indices ** installing vignettes ** testing if installed package can be loaded * DONE (stageR)