| Back to Multiple platform build/check report for BioC 3.7 | 
 | 
This page was generated on 2018-10-17 08:42:00 -0400 (Wed, 17 Oct 2018).
| Package 1428/1561 | Hostname | OS / Arch | INSTALL | BUILD | CHECK | BUILD BIN | ||||||
| sscu 2.10.0 Yu Sun 
 | malbec2 | Linux (Ubuntu 16.04.1 LTS) / x86_64 | OK | OK | WARNINGS |  | ||||||
| tokay2 | Windows Server 2012 R2 Standard / x64 | OK | [ OK ] | WARNINGS | OK |  | ||||||
| merida2 | OS X 10.11.6 El Capitan / x86_64 | OK | OK | WARNINGS | OK |  | 
| Package: sscu | 
| Version: 2.10.0 | 
| Command: chmod a+r sscu -R && C:\Users\biocbuild\bbs-3.7-bioc\R\bin\R.exe CMD build --keep-empty-dirs --no-resave-data sscu | 
| StartedAt: 2018-10-16 23:04:10 -0400 (Tue, 16 Oct 2018) | 
| EndedAt: 2018-10-16 23:04:34 -0400 (Tue, 16 Oct 2018) | 
| EllapsedTime: 24.7 seconds | 
| RetCode: 0 | 
| Status: OK | 
| PackageFile: sscu_2.10.0.tar.gz | 
| PackageFileSize: 1.288 MiB | 
############################################################################## ############################################################################## ### ### Running command: ### ### chmod a+r sscu -R && C:\Users\biocbuild\bbs-3.7-bioc\R\bin\R.exe CMD build --keep-empty-dirs --no-resave-data sscu ### ############################################################################## ############################################################################## * checking for file 'sscu/DESCRIPTION' ... OK * preparing 'sscu': * checking DESCRIPTION meta-information ... OK * installing the package to process help pages * saving partial Rd database * checking for LF line-endings in source and make files and shell scripts * checking for empty or unneeded directories * building 'sscu_2.10.0.tar.gz'