| Back to Multiple platform build/check report for BioC 3.7 |
|
This page was generated on 2018-10-17 08:56:17 -0400 (Wed, 17 Oct 2018).
| Package 1428/1561 | Hostname | OS / Arch | INSTALL | BUILD | CHECK | BUILD BIN | ||||||
| sscu 2.10.0 Yu Sun
| malbec2 | Linux (Ubuntu 16.04.1 LTS) / x86_64 | OK | OK | WARNINGS | |||||||
| tokay2 | Windows Server 2012 R2 Standard / x64 | OK | OK | WARNINGS | OK | |||||||
| merida2 | OS X 10.11.6 El Capitan / x86_64 | OK | OK | WARNINGS | [ OK ] |
| Package: sscu |
| Version: 2.10.0 |
| Command: rm -rf sscu.buildbin-libdir && mkdir sscu.buildbin-libdir && /Users/biocbuild/BBS/utils/build-universal.sh sscu_2.10.0.tar.gz /Library/Frameworks/R.framework/Versions/Current/Resources/bin/R sscu.buildbin-libdir |
| StartedAt: 2018-10-17 02:12:58 -0400 (Wed, 17 Oct 2018) |
| EndedAt: 2018-10-17 02:14:16 -0400 (Wed, 17 Oct 2018) |
| EllapsedTime: 77.5 seconds |
| RetCode: 0 |
| Status: OK |
| PackageFile: sscu_2.10.0.tgz |
| PackageFileSize: 1.371 MiB |
############################################################################## ############################################################################## ### ### Running command: ### ### rm -rf sscu.buildbin-libdir && mkdir sscu.buildbin-libdir && /Users/biocbuild/BBS/utils/build-universal.sh sscu_2.10.0.tar.gz /Library/Frameworks/R.framework/Versions/Current/Resources/bin/R sscu.buildbin-libdir ### ############################################################################## ############################################################################## >>>>>>> >>>>>>> INSTALLATION WITH 'R CMD INSTALL --preclean --no-multiarch --library=sscu.buildbin-libdir sscu_2.10.0.tar.gz' >>>>>>> * installing *source* package ‘sscu’ ... ** R ** inst ** byte-compile and prepare package for lazy loading ** help *** installing help indices ** building package indices ** installing vignettes ** testing if installed package can be loaded * DONE (sscu)