| Back to Multiple platform build/check report for BioC 3.7 |
|
This page was generated on 2018-10-17 08:44:49 -0400 (Wed, 17 Oct 2018).
| Package 1237/1561 | Hostname | OS / Arch | INSTALL | BUILD | CHECK | BUILD BIN | ||||||
| rhdf5client 1.2.3 Samuela Pollack
| malbec2 | Linux (Ubuntu 16.04.1 LTS) / x86_64 | OK | OK | WARNINGS | |||||||
| tokay2 | Windows Server 2012 R2 Standard / x64 | OK | OK | WARNINGS | [ OK ] | |||||||
| merida2 | OS X 10.11.6 El Capitan / x86_64 | OK | OK | WARNINGS | OK |
| Package: rhdf5client |
| Version: 1.2.3 |
| Command: rm -rf rhdf5client.buildbin-libdir && mkdir rhdf5client.buildbin-libdir && C:\Users\biocbuild\bbs-3.7-bioc\R\bin\R.exe CMD INSTALL --merge-multiarch --build --library=rhdf5client.buildbin-libdir rhdf5client_1.2.3.tar.gz |
| StartedAt: 2018-10-17 06:53:50 -0400 (Wed, 17 Oct 2018) |
| EndedAt: 2018-10-17 06:54:10 -0400 (Wed, 17 Oct 2018) |
| EllapsedTime: 20.2 seconds |
| RetCode: 0 |
| Status: OK |
| PackageFile: rhdf5client_1.2.3.zip |
| PackageFileSize: 903.7 KiB |
##############################################################################
##############################################################################
###
### Running command:
###
### rm -rf rhdf5client.buildbin-libdir && mkdir rhdf5client.buildbin-libdir && C:\Users\biocbuild\bbs-3.7-bioc\R\bin\R.exe CMD INSTALL --merge-multiarch --build --library=rhdf5client.buildbin-libdir rhdf5client_1.2.3.tar.gz
###
##############################################################################
##############################################################################
install for i386
* installing *source* package 'rhdf5client' ...
** R
** inst
** byte-compile and prepare package for lazy loading
** help
*** installing help indices
converting help for package 'rhdf5client'
finding HTML links ... done
H5S_Array-class html
H5S_Array html
H5S_ArraySeed-class html
H5S_Matrix-class html
H5S_dataset-class html
H5S_dataset2 html
H5S_source-class html
HSDS_Matrix html
URL_h5serv html
URL_hsds html
dim-H5S_ArraySeed-method html
dimnames-H5S_ArraySeed-method html
domains-method html
dsmeta html
extract-methods html
getDatasetAttrs html
getDatasetSlice html
getDatasetUUIDs html
getDims html
getHRDF html
getReq html
groups-H5S_source-missing-method html
groups-H5S_source-numeric-method html
hsdsInfo-method html
internalDim html
links html
setPath-methods html
sproc html
sub-H5S_dataset-character-character-ANY-method
html
sub-H5S_dataset-character-character-method
html
targets html
** building package indices
** installing vignettes
** testing if installed package can be loaded
In R CMD INSTALL
install for x64
* installing *source* package 'rhdf5client' ...
** testing if installed package can be loaded
* MD5 sums
packaged installation of 'rhdf5client' as rhdf5client_1.2.3.zip
* DONE (rhdf5client)
In R CMD INSTALL
In R CMD INSTALL