| Back to Multiple platform build/check report for BioC 3.7 |
|
This page was generated on 2018-10-17 08:59:03 -0400 (Wed, 17 Oct 2018).
| Package 1237/1561 | Hostname | OS / Arch | INSTALL | BUILD | CHECK | BUILD BIN | ||||||
| rhdf5client 1.2.3 Samuela Pollack
| malbec2 | Linux (Ubuntu 16.04.1 LTS) / x86_64 | OK | OK | WARNINGS | |||||||
| tokay2 | Windows Server 2012 R2 Standard / x64 | OK | OK | WARNINGS | OK | |||||||
| merida2 | OS X 10.11.6 El Capitan / x86_64 | OK | OK | WARNINGS | [ OK ] |
| Package: rhdf5client |
| Version: 1.2.3 |
| Command: rm -rf rhdf5client.buildbin-libdir && mkdir rhdf5client.buildbin-libdir && /Users/biocbuild/BBS/utils/build-universal.sh rhdf5client_1.2.3.tar.gz /Library/Frameworks/R.framework/Versions/Current/Resources/bin/R rhdf5client.buildbin-libdir |
| StartedAt: 2018-10-17 02:01:49 -0400 (Wed, 17 Oct 2018) |
| EndedAt: 2018-10-17 02:02:42 -0400 (Wed, 17 Oct 2018) |
| EllapsedTime: 52.5 seconds |
| RetCode: 0 |
| Status: OK |
| PackageFile: rhdf5client_1.2.3.tgz |
| PackageFileSize: 870.4 KiB |
############################################################################## ############################################################################## ### ### Running command: ### ### rm -rf rhdf5client.buildbin-libdir && mkdir rhdf5client.buildbin-libdir && /Users/biocbuild/BBS/utils/build-universal.sh rhdf5client_1.2.3.tar.gz /Library/Frameworks/R.framework/Versions/Current/Resources/bin/R rhdf5client.buildbin-libdir ### ############################################################################## ############################################################################## >>>>>>> >>>>>>> INSTALLATION WITH 'R CMD INSTALL --preclean --no-multiarch --library=rhdf5client.buildbin-libdir rhdf5client_1.2.3.tar.gz' >>>>>>> * installing *source* package ‘rhdf5client’ ... ** R ** inst ** byte-compile and prepare package for lazy loading ** help *** installing help indices ** building package indices ** installing vignettes ** testing if installed package can be loaded * DONE (rhdf5client)