| Back to Multiple platform build/check report for BioC 3.7 |
|
This page was generated on 2018-10-17 08:41:52 -0400 (Wed, 17 Oct 2018).
| Package 1147/1561 | Hostname | OS / Arch | INSTALL | BUILD | CHECK | BUILD BIN | ||||||
| psygenet2r 1.12.0 Alba Gutierrez-Sacristan
| malbec2 | Linux (Ubuntu 16.04.1 LTS) / x86_64 | OK | OK | WARNINGS | |||||||
| tokay2 | Windows Server 2012 R2 Standard / x64 | OK | OK | WARNINGS | [ OK ] | |||||||
| merida2 | OS X 10.11.6 El Capitan / x86_64 | OK | OK | WARNINGS | OK |
| Package: psygenet2r |
| Version: 1.12.0 |
| Command: rm -rf psygenet2r.buildbin-libdir && mkdir psygenet2r.buildbin-libdir && C:\Users\biocbuild\bbs-3.7-bioc\R\bin\R.exe CMD INSTALL --merge-multiarch --build --library=psygenet2r.buildbin-libdir psygenet2r_1.12.0.tar.gz |
| StartedAt: 2018-10-17 06:49:22 -0400 (Wed, 17 Oct 2018) |
| EndedAt: 2018-10-17 06:49:42 -0400 (Wed, 17 Oct 2018) |
| EllapsedTime: 19.3 seconds |
| RetCode: 0 |
| Status: OK |
| PackageFile: psygenet2r_1.12.0.zip |
| PackageFileSize: 1.795 MiB |
##############################################################################
##############################################################################
###
### Running command:
###
### rm -rf psygenet2r.buildbin-libdir && mkdir psygenet2r.buildbin-libdir && C:\Users\biocbuild\bbs-3.7-bioc\R\bin\R.exe CMD INSTALL --merge-multiarch --build --library=psygenet2r.buildbin-libdir psygenet2r_1.12.0.tar.gz
###
##############################################################################
##############################################################################
install for i386
* installing *source* package 'psygenet2r' ...
** R
** data
*** moving datasets to lazyload DB
** inst
** byte-compile and prepare package for lazy loading
Note: possible error in 'psygenetGene(x, databse = "ALL")': unused argument (databse = "ALL")
Note: possible error in 'psygenetGene(x, databse = "ALL")': unused argument (databse = "ALL")
Note: possible error in 'psygenetGene(x, databse = "ALL")': unused argument (databse = "ALL")
Note: possible error in 'psygenetGene(x, databse = "ALL", ': unused argument (databse = "ALL")
** help
*** installing help indices
converting help for package 'psygenet2r'
finding HTML links ... done
DataGeNET.Psy-class html
JaccardIndexPsy-class html
enrichedPD-methods html
extract html
extractSentences html
geneAttrPlot-methods html
getUMLs-methods html
jaccardEstimation-methods html
ndisease html
ngene html
pantherGraphic-methods html
plot-DataGeNET.Psy-ANY-method html
plot-JaccardIndexPsy-ANY-method html
psygenet2r html
psygenetDisease-methods html
psygenetDiseaseSentences html
psygenetGene-methods html
psygenetGeneSentences html
qr html
topAnatEnrichment-methods html
Rd warning: C:/Users/biocbuild/bbs-3.7-bioc/tmpdir/RtmpqWCOTm/R.INSTALL17f0230d2b80/psygenet2r/man/topAnatEnrichment-methods.Rd:21: file link 'runTest' in package 'topGO' does not exist and so has been treated as a topic
universe html
** building package indices
** installing vignettes
** testing if installed package can be loaded
In R CMD INSTALL
install for x64
* installing *source* package 'psygenet2r' ...
** testing if installed package can be loaded
* MD5 sums
packaged installation of 'psygenet2r' as psygenet2r_1.12.0.zip
* DONE (psygenet2r)
In R CMD INSTALL
In R CMD INSTALL