| Back to Multiple platform build/check report for BioC 3.7 |
|
This page was generated on 2018-10-17 08:56:08 -0400 (Wed, 17 Oct 2018).
| Package 1147/1561 | Hostname | OS / Arch | INSTALL | BUILD | CHECK | BUILD BIN | ||||||
| psygenet2r 1.12.0 Alba Gutierrez-Sacristan
| malbec2 | Linux (Ubuntu 16.04.1 LTS) / x86_64 | OK | OK | WARNINGS | |||||||
| tokay2 | Windows Server 2012 R2 Standard / x64 | OK | OK | WARNINGS | OK | |||||||
| merida2 | OS X 10.11.6 El Capitan / x86_64 | OK | OK | WARNINGS | [ OK ] |
| Package: psygenet2r |
| Version: 1.12.0 |
| Command: rm -rf psygenet2r.buildbin-libdir && mkdir psygenet2r.buildbin-libdir && /Users/biocbuild/BBS/utils/build-universal.sh psygenet2r_1.12.0.tar.gz /Library/Frameworks/R.framework/Versions/Current/Resources/bin/R psygenet2r.buildbin-libdir |
| StartedAt: 2018-10-17 01:54:10 -0400 (Wed, 17 Oct 2018) |
| EndedAt: 2018-10-17 01:55:04 -0400 (Wed, 17 Oct 2018) |
| EllapsedTime: 53.4 seconds |
| RetCode: 0 |
| Status: OK |
| PackageFile: psygenet2r_1.12.0.tgz |
| PackageFileSize: 4.242 MiB |
############################################################################## ############################################################################## ### ### Running command: ### ### rm -rf psygenet2r.buildbin-libdir && mkdir psygenet2r.buildbin-libdir && /Users/biocbuild/BBS/utils/build-universal.sh psygenet2r_1.12.0.tar.gz /Library/Frameworks/R.framework/Versions/Current/Resources/bin/R psygenet2r.buildbin-libdir ### ############################################################################## ############################################################################## >>>>>>> >>>>>>> INSTALLATION WITH 'R CMD INSTALL --preclean --no-multiarch --library=psygenet2r.buildbin-libdir psygenet2r_1.12.0.tar.gz' >>>>>>> * installing *source* package ‘psygenet2r’ ... ** R ** data *** moving datasets to lazyload DB ** inst ** byte-compile and prepare package for lazy loading Note: possible error in 'psygenetGene(x, databse = "ALL")': unused argument (databse = "ALL") Note: possible error in 'psygenetGene(x, databse = "ALL")': unused argument (databse = "ALL") Note: possible error in 'psygenetGene(x, databse = "ALL")': unused argument (databse = "ALL") Note: possible error in 'psygenetGene(x, databse = "ALL", ': unused argument (databse = "ALL") ** help *** installing help indices ** building package indices ** installing vignettes ** testing if installed package can be loaded * DONE (psygenet2r)