| Back to Multiple platform build/check report for BioC 3.7 | 
 | 
This page was generated on 2018-10-17 08:53:39 -0400 (Wed, 17 Oct 2018).
| Package 1112/1561 | Hostname | OS / Arch | INSTALL | BUILD | CHECK | BUILD BIN | ||||||
| polyester 1.16.0 Jack Fu 
 | malbec2 | Linux (Ubuntu 16.04.1 LTS) / x86_64 | OK | OK | OK |  | ||||||
| tokay2 | Windows Server 2012 R2 Standard / x64 | OK | OK | OK | OK |  | ||||||
| merida2 | OS X 10.11.6 El Capitan / x86_64 | OK | OK | OK | [ OK ] |  | 
| Package: polyester | 
| Version: 1.16.0 | 
| Command: rm -rf polyester.buildbin-libdir && mkdir polyester.buildbin-libdir && /Users/biocbuild/BBS/utils/build-universal.sh polyester_1.16.0.tar.gz /Library/Frameworks/R.framework/Versions/Current/Resources/bin/R polyester.buildbin-libdir | 
| StartedAt: 2018-10-17 01:52:32 -0400 (Wed, 17 Oct 2018) | 
| EndedAt: 2018-10-17 01:53:15 -0400 (Wed, 17 Oct 2018) | 
| EllapsedTime: 43.1 seconds | 
| RetCode: 0 | 
| Status: OK | 
| PackageFile: polyester_1.16.0.tgz | 
| PackageFileSize: 1.934 MiB | 
############################################################################## ############################################################################## ### ### Running command: ### ### rm -rf polyester.buildbin-libdir && mkdir polyester.buildbin-libdir && /Users/biocbuild/BBS/utils/build-universal.sh polyester_1.16.0.tar.gz /Library/Frameworks/R.framework/Versions/Current/Resources/bin/R polyester.buildbin-libdir ### ############################################################################## ############################################################################## >>>>>>> >>>>>>> INSTALLATION WITH 'R CMD INSTALL --preclean --no-multiarch --library=polyester.buildbin-libdir polyester_1.16.0.tar.gz' >>>>>>> * installing *source* package ‘polyester’ ... ** R ** data ** inst ** byte-compile and prepare package for lazy loading ** help *** installing help indices ** building package indices ** installing vignettes ** testing if installed package can be loaded * DONE (polyester)