| Back to Multiple platform build/check report for BioC 3.7 |
|
This page was generated on 2018-10-17 08:24:47 -0400 (Wed, 17 Oct 2018).
| Package 1133/1561 | Hostname | OS / Arch | INSTALL | BUILD | CHECK | BUILD BIN | ||||||
| pRoloc 1.20.2 Laurent Gatto
| malbec2 | Linux (Ubuntu 16.04.1 LTS) / x86_64 | OK | OK | [ OK ] | |||||||
| tokay2 | Windows Server 2012 R2 Standard / x64 | OK | OK | OK | OK | |||||||
| merida2 | OS X 10.11.6 El Capitan / x86_64 | OK | OK | OK | OK |
| Package: pRoloc |
| Version: 1.20.2 |
| Command: /home/biocbuild/bbs-3.7-bioc/R/bin/R CMD check --install=check:pRoloc.install-out.txt --library=/home/biocbuild/bbs-3.7-bioc/R/library --no-vignettes --timings pRoloc_1.20.2.tar.gz |
| StartedAt: 2018-10-16 02:50:28 -0400 (Tue, 16 Oct 2018) |
| EndedAt: 2018-10-16 02:57:33 -0400 (Tue, 16 Oct 2018) |
| EllapsedTime: 424.6 seconds |
| RetCode: 0 |
| Status: OK |
| CheckDir: pRoloc.Rcheck |
| Warnings: 0 |
##############################################################################
##############################################################################
###
### Running command:
###
### /home/biocbuild/bbs-3.7-bioc/R/bin/R CMD check --install=check:pRoloc.install-out.txt --library=/home/biocbuild/bbs-3.7-bioc/R/library --no-vignettes --timings pRoloc_1.20.2.tar.gz
###
##############################################################################
##############################################################################
* using log directory ‘/home/biocbuild/bbs-3.7-bioc/meat/pRoloc.Rcheck’
* using R version 3.5.1 Patched (2018-07-12 r74967)
* using platform: x86_64-pc-linux-gnu (64-bit)
* using session charset: UTF-8
* using option ‘--no-vignettes’
* checking for file ‘pRoloc/DESCRIPTION’ ... OK
* checking extension type ... Package
* this is package ‘pRoloc’ version ‘1.20.2’
* checking package namespace information ... OK
* checking package dependencies ... OK
* checking if this is a source package ... OK
* checking if there is a namespace ... OK
* checking for hidden files and directories ... OK
* checking for portable file names ... OK
* checking for sufficient/correct file permissions ... OK
* checking whether package ‘pRoloc’ can be installed ... OK
* checking installed package size ... OK
* checking package directory ... OK
* checking ‘build’ directory ... OK
* checking DESCRIPTION meta-information ... OK
* checking top-level files ... OK
* checking for left-over files ... OK
* checking index information ... OK
* checking package subdirectories ... OK
* checking R files for non-ASCII characters ... OK
* checking R files for syntax errors ... OK
* checking whether the package can be loaded ... OK
* checking whether the package can be loaded with stated dependencies ... OK
* checking whether the package can be unloaded cleanly ... OK
* checking whether the namespace can be loaded with stated dependencies ... OK
* checking whether the namespace can be unloaded cleanly ... OK
* checking dependencies in R code ... NOTE
Unexported objects imported by ':::' calls:
‘MLInterfaces:::.macroF1’ ‘MLInterfaces:::.precision’
‘MLInterfaces:::.recall’ ‘MLInterfaces:::es2df’
‘caret:::predict.plsda’
See the note in ?`:::` about the use of this operator.
There are ::: calls to the package's namespace in its code. A package
almost never needs to use ::: for its own objects:
‘opt’
* checking S3 generic/method consistency ... OK
* checking replacement functions ... OK
* checking foreign function calls ... OK
* checking R code for possible problems ... NOTE
Found the following possibly unsafe calls:
File ‘pRoloc/R/annotation.R’:
unlockBinding("params", .pRolocEnv)
* checking Rd files ... OK
* checking Rd metadata ... OK
* checking Rd cross-references ... OK
* checking for missing documentation entries ... OK
* checking for code/documentation mismatches ... OK
* checking Rd \usage sections ... OK
* checking Rd contents ... OK
* checking for unstated dependencies in examples ... OK
* checking contents of ‘data’ directory ... OK
* checking data for non-ASCII characters ... OK
* checking data for ASCII and uncompressed saves ... OK
* checking line endings in C/C++/Fortran sources/headers ... OK
* checking line endings in Makefiles ... OK
* checking compilation flags in Makevars ... OK
* checking for GNU extensions in Makefiles ... OK
* checking for portable use of $(BLAS_LIBS) and $(LAPACK_LIBS) ... OK
* checking compiled code ... NOTE
Note: information on .o files is not available
* checking files in ‘vignettes’ ... OK
* checking examples ... OK
Examples with CPU or elapsed time > 5s
user system elapsed
perTurboClassification 11.900 0.000 11.921
SpatProtVis-class 6.088 0.044 6.137
rfClassification 5.584 0.028 5.619
svmClassification 5.592 0.008 5.609
nnetClassification 5.384 0.000 5.392
ClustDist-class 4.144 0.056 11.717
addGoAnnotations 3.588 0.016 9.017
ClustDistList-class 3.284 0.012 8.477
clustDist 3.216 0.008 8.629
AnnotationParams-class 0.632 0.024 9.835
* checking for unstated dependencies in ‘tests’ ... OK
* checking tests ...
Running ‘testthat.R’
OK
* checking for unstated dependencies in vignettes ... OK
* checking package vignettes in ‘inst/doc’ ... OK
* checking running R code from vignettes ... SKIPPED
* checking re-building of vignette outputs ... SKIPPED
* checking PDF version of manual ... OK
* DONE
Status: 3 NOTEs
See
‘/home/biocbuild/bbs-3.7-bioc/meat/pRoloc.Rcheck/00check.log’
for details.
pRoloc.Rcheck/00install.out
##############################################################################
##############################################################################
###
### Running command:
###
### /home/biocbuild/bbs-3.7-bioc/R/bin/R CMD INSTALL pRoloc
###
##############################################################################
##############################################################################
* installing to library ‘/home/biocbuild/bbs-3.7-bioc/R/library’
* installing *source* package ‘pRoloc’ ...
** libs
g++ -I"/home/biocbuild/bbs-3.7-bioc/R/include" -DNDEBUG -I"/home/biocbuild/bbs-3.7-bioc/R/library/Rcpp/include" -I"/home/biocbuild/bbs-3.7-bioc/R/library/RcppArmadillo/include" -I/usr/local/include -fpic -g -O2 -Wall -c pRoloc.cpp -o pRoloc.o
In file included from /home/biocbuild/bbs-3.7-bioc/R/library/RcppArmadillo/include/armadillo:54:0,
from /home/biocbuild/bbs-3.7-bioc/R/library/RcppArmadillo/include/RcppArmadilloForward.h:46,
from /home/biocbuild/bbs-3.7-bioc/R/library/RcppArmadillo/include/RcppArmadillo.h:31,
from pRoloc.cpp:2:
/home/biocbuild/bbs-3.7-bioc/R/library/RcppArmadillo/include/armadillo_bits/compiler_setup.hpp:509:108: note: #pragma message: NOTE: suggest to enable C++14 mode for faster code; add -std=c++14 to compiler flags
#pragma message ("NOTE: suggest to enable C++14 mode for faster code; add -std=c++14 to compiler flags")
^
g++ -shared -L/home/biocbuild/bbs-3.7-bioc/R/lib -L/usr/local/lib -o pRoloc.so pRoloc.o -L/home/biocbuild/bbs-3.7-bioc/R/lib -lRlapack -L/home/biocbuild/bbs-3.7-bioc/R/lib -lRblas -lgfortran -lm -lquadmath -L/home/biocbuild/bbs-3.7-bioc/R/lib -lR
installing to /home/biocbuild/bbs-3.7-bioc/R/library/pRoloc/libs
** R
** data
** inst
** byte-compile and prepare package for lazy loading
Warning: replacing previous import ‘BiocGenerics::var’ by ‘stats::var’ when loading ‘MLInterfaces’
** help
*** installing help indices
** building package indices
** installing vignettes
** testing if installed package can be loaded
Warning: replacing previous import ‘BiocGenerics::var’ by ‘stats::var’ when loading ‘MLInterfaces’
* DONE (pRoloc)
pRoloc.Rcheck/tests/testthat.Rout
R version 3.5.1 Patched (2018-07-12 r74967) -- "Feather Spray"
Copyright (C) 2018 The R Foundation for Statistical Computing
Platform: x86_64-pc-linux-gnu (64-bit)
R is free software and comes with ABSOLUTELY NO WARRANTY.
You are welcome to redistribute it under certain conditions.
Type 'license()' or 'licence()' for distribution details.
R is a collaborative project with many contributors.
Type 'contributors()' for more information and
'citation()' on how to cite R or R packages in publications.
Type 'demo()' for some demos, 'help()' for on-line help, or
'help.start()' for an HTML browser interface to help.
Type 'q()' to quit R.
>
> # The setting of R_TESTS exists to work around an R bug. See
> # https://github.com/hadley/testthat/issues/144
> # We should remove it when the issue is resolved.
> Sys.setenv("R_TESTS" = "")
>
> library("testthat")
> library("pRoloc")
Loading required package: MSnbase
Loading required package: BiocGenerics
Loading required package: parallel
Attaching package: 'BiocGenerics'
The following objects are masked from 'package:parallel':
clusterApply, clusterApplyLB, clusterCall, clusterEvalQ,
clusterExport, clusterMap, parApply, parCapply, parLapply,
parLapplyLB, parRapply, parSapply, parSapplyLB
The following objects are masked from 'package:stats':
IQR, mad, sd, var, xtabs
The following objects are masked from 'package:base':
Filter, Find, Map, Position, Reduce, anyDuplicated, append,
as.data.frame, basename, cbind, colMeans, colSums, colnames,
dirname, do.call, duplicated, eval, evalq, get, grep, grepl,
intersect, is.unsorted, lapply, lengths, mapply, match, mget,
order, paste, pmax, pmax.int, pmin, pmin.int, rank, rbind,
rowMeans, rowSums, rownames, sapply, setdiff, sort, table, tapply,
union, unique, unsplit, which, which.max, which.min
Loading required package: Biobase
Welcome to Bioconductor
Vignettes contain introductory material; view with
'browseVignettes()'. To cite Bioconductor, see
'citation("Biobase")', and for packages 'citation("pkgname")'.
Loading required package: mzR
Loading required package: Rcpp
Loading required package: BiocParallel
Loading required package: ProtGenerics
This is MSnbase version 2.6.4
Visit https://lgatto.github.io/MSnbase/ to get started.
Attaching package: 'MSnbase'
The following object is masked from 'package:stats':
smooth
The following object is masked from 'package:base':
trimws
Loading required package: MLInterfaces
Loading required package: annotate
Loading required package: AnnotationDbi
Loading required package: stats4
Loading required package: IRanges
Loading required package: S4Vectors
Attaching package: 'S4Vectors'
The following object is masked from 'package:base':
expand.grid
Loading required package: XML
Attaching package: 'annotate'
The following object is masked from 'package:mzR':
nChrom
Loading required package: cluster
This is pRoloc version 1.20.2
Visit https://lgatto.github.io/pRoloc/ to get started.
Warning message:
replacing previous import 'BiocGenerics::var' by 'stats::var' when loading 'MLInterfaces'
> library("pRolocdata")
This is pRolocdata version 1.18.0.
Use 'pRolocdata()' to list available data sets.
>
> test_check("pRoloc")
Object of class "SpatProtVis"
Data: dunkley2006
Visualisation methods: PCA, MDS, kpca
Done.
Connecting to Biomart...
Object of class "AnnotationParams"
Using the 'ENSEMBL_MART_ENSEMBL' BioMart database
Using the 'hsapiens_gene_ensembl' dataset
Using 'uniprotswissprot' as filter
Created on Tue Oct 16 02:55:59 2018
Connecting to Biomart...
GO Term Evidence Code
Experimental Evidence Codes
EXP: Inferred from Experiment
IDA: Inferred from Direct Assay
IPI: Inferred from Physical Interaction
IMP: Inferred from Mutant Phenotype
IGI: Inferred from Genetic Interaction
IEP: Inferred from Expression Pattern
Computational Analysis Evidence Codes
ISS: Inferred from Sequence or Structural Similarity
ISO: Inferred from Sequence Orthology
ISA: Inferred from Sequence Alignment
ISM: Inferred from Sequence Model
IGC: Inferred from Genomic Context
IBA: Inferred from Biological aspect of Ancestor
IBD: Inferred from Biological aspect of Descendant
IKR: Inferred from Key Residues
IRD: Inferred from Rapid Divergence
RCA: inferred from Reviewed Computational Analysis
Author Statement Evidence Codes
TAS: Traceable Author Statement
NAS: Non-traceable Author Statement
Curator Statement Evidence Codes
IC: Inferred by Curator
ND: No biological Data available
Automatically-assigned Evidence Codes
IEA: Inferred from Electronic Annotation
Obsolete Evidence Codes
NR: Not Recorded
Connecting to Biomart...
organelleMarkers
ORG1 ORG2 ORG3 ORG4 ORG5
1 3 1 2 3
organelleMarkers
ORG2 ORG3 ORG5
6 1 3
organelleMarkers
ORG2 unknown
3 7
organelleMarkers
ORG2 unknown
2 8
# weights: 269
initial value 670.632139
iter 10 value 379.154011
iter 20 value 214.607114
iter 30 value 168.319438
iter 40 value 162.189377
iter 50 value 159.464493
iter 60 value 158.115795
iter 70 value 157.225109
iter 80 value 156.584611
iter 90 value 156.267913
iter 100 value 156.195435
final value 156.195435
stopped after 100 iterations
# weights: 269
initial value 670.632139
iter 10 value 379.154011
iter 20 value 214.607114
iter 30 value 168.319438
iter 40 value 162.189377
iter 50 value 159.464493
iter 60 value 158.115795
iter 70 value 157.225109
iter 80 value 156.584611
iter 90 value 156.267913
iter 100 value 156.195435
final value 156.195435
stopped after 100 iterations
Common markers: 0
Unique x markers: 49
Unique y markers: 34
Common unkowns: 11
Unique x unknowns: 40
Unique y unknowns: 66
my
mx ER lumen ER membrane Golgi Mitochondrion PM Plastid Ribosome
ER lumen 14 0 0 0 0 0 0
ER membrane 0 45 0 0 0 0 0
Golgi 0 0 28 0 0 0 0
Mitochondrion 0 0 0 55 0 0 0
PM 0 0 0 0 46 0 0
Plastid 0 0 0 0 0 20 0
Ribosome 0 0 0 0 0 0 19
TGN 0 0 0 0 0 0 0
unknown 0 0 0 0 0 0 0
vacuole 0 0 0 0 0 0 0
my
mx TGN unknown vacuole
ER lumen 0 0 0
ER membrane 0 0 0
Golgi 0 0 0
Mitochondrion 0 0 0
PM 0 0 0
Plastid 0 0 0
Ribosome 0 0 0
TGN 13 0 0
unknown 0 428 0
vacuole 0 0 21
══ testthat results ═══════════════════════════════════════════════════════════
OK: 140 SKIPPED: 0 FAILED: 0
>
> proc.time()
user system elapsed
83.596 0.860 118.831
pRoloc.Rcheck/pRoloc-Ex.timings
| name | user | system | elapsed | |
| AnnotationParams-class | 0.632 | 0.024 | 9.835 | |
| ClustDist-class | 4.144 | 0.056 | 11.717 | |
| ClustDistList-class | 3.284 | 0.012 | 8.477 | |
| GenRegRes-class | 0.000 | 0.000 | 0.002 | |
| QSep-class | 0.880 | 0.016 | 0.897 | |
| SpatProtVis-class | 6.088 | 0.044 | 6.137 | |
| addGoAnnotations | 3.588 | 0.016 | 9.017 | |
| addMarkers | 0.156 | 0.000 | 0.165 | |
| checkFeatureNamesOverlap | 0.348 | 0.000 | 0.354 | |
| checkFvarOverlap | 0.028 | 0.000 | 0.028 | |
| chi2-methods | 0.008 | 0.000 | 0.006 | |
| classWeights | 0.092 | 0.012 | 0.103 | |
| clustDist | 3.216 | 0.008 | 8.629 | |
| empPvalues | 0.100 | 0.000 | 0.103 | |
| exprsToRatios-methods | 0.132 | 0.016 | 0.151 | |
| fDataToUnknown | 0.044 | 0.000 | 0.045 | |
| filterBinMSnSet | 0.168 | 0.004 | 0.173 | |
| filterZeroCols | 0.080 | 0.008 | 0.089 | |
| getGOFromFeatures | 0.048 | 0.000 | 0.315 | |
| getMarkerClasses | 0.032 | 0.000 | 0.033 | |
| getMarkers | 0.036 | 0.000 | 0.037 | |
| getPredictions | 0.256 | 0.000 | 0.254 | |
| getStockcol | 0.072 | 0.000 | 0.072 | |
| goIdToTerm | 2.036 | 0.004 | 2.041 | |
| highlightOnPlot | 1.016 | 0.060 | 1.083 | |
| knnClassification | 1.204 | 0.068 | 1.271 | |
| knntlClassification | 0 | 0 | 0 | |
| ksvmClassification | 3.916 | 0.004 | 3.928 | |
| makeGoSet | 0.368 | 0.000 | 0.688 | |
| markerMSnSet | 0.212 | 0.000 | 0.212 | |
| markers | 0.052 | 0.000 | 0.050 | |
| minMarkers | 0.036 | 0.000 | 0.036 | |
| move2Ds | 1.736 | 0.004 | 1.746 | |
| mrkConsProfiles | 0.172 | 0.000 | 0.173 | |
| mrkHClust | 0.172 | 0.000 | 0.175 | |
| nbClassification | 2.584 | 0.004 | 2.593 | |
| nndist-methods | 0.196 | 0.004 | 0.200 | |
| nnetClassification | 5.384 | 0.000 | 5.392 | |
| orgQuants | 0.208 | 0.000 | 0.207 | |
| pRolocmarkers | 0.012 | 0.000 | 0.027 | |
| perTurboClassification | 11.900 | 0.000 | 11.921 | |
| phenoDisco | 0.000 | 0.000 | 0.001 | |
| plot2D | 2.276 | 0.052 | 2.325 | |
| plot2Ds | 0.356 | 0.020 | 0.377 | |
| plotDist | 0.104 | 0.000 | 0.103 | |
| plsdaClassification | 0.004 | 0.000 | 0.000 | |
| rfClassification | 5.584 | 0.028 | 5.619 | |
| sampleMSnSet | 0.068 | 0.000 | 0.068 | |
| showGOEvidenceCodes | 0.004 | 0.000 | 0.000 | |
| svmClassification | 5.592 | 0.008 | 5.609 | |
| testMSnSet | 0.348 | 0.000 | 0.348 | |
| testMarkers | 0.024 | 0.000 | 0.024 | |
| thetas | 0.008 | 0.000 | 0.006 | |
| zerosInBinMSnSet | 2.792 | 0.140 | 2.953 | |