| Back to Multiple platform build/check report for BioC 3.7 |
|
This page was generated on 2018-10-17 08:44:01 -0400 (Wed, 17 Oct 2018).
| Package 983/1561 | Hostname | OS / Arch | INSTALL | BUILD | CHECK | BUILD BIN | ||||||
| ndexr 1.2.0 Florian Auer
| malbec2 | Linux (Ubuntu 16.04.1 LTS) / x86_64 | OK | OK | OK | |||||||
| tokay2 | Windows Server 2012 R2 Standard / x64 | OK | [ OK ] | WARNINGS | OK | |||||||
| merida2 | OS X 10.11.6 El Capitan / x86_64 | OK | OK | OK | OK |
| Package: ndexr |
| Version: 1.2.0 |
| Command: chmod a+r ndexr -R && C:\Users\biocbuild\bbs-3.7-bioc\R\bin\R.exe CMD build --keep-empty-dirs --no-resave-data ndexr |
| StartedAt: 2018-10-16 23:44:41 -0400 (Tue, 16 Oct 2018) |
| EndedAt: 2018-10-16 23:45:15 -0400 (Tue, 16 Oct 2018) |
| EllapsedTime: 34.1 seconds |
| RetCode: 0 |
| Status: OK |
| PackageFile: ndexr_1.2.0.tar.gz |
| PackageFileSize: 106.1 KiB |
##############################################################################
##############################################################################
###
### Running command:
###
### chmod a+r ndexr -R && C:\Users\biocbuild\bbs-3.7-bioc\R\bin\R.exe CMD build --keep-empty-dirs --no-resave-data ndexr
###
##############################################################################
##############################################################################
* checking for file 'ndexr/DESCRIPTION' ... OK
* preparing 'ndexr':
* checking DESCRIPTION meta-information ... OK
* installing the package to build vignettes
* creating vignettes ... OK
Warning: 'inst/doc' files
'ndexr-vignette.Rmd', 'ndexr-vignette.html', 'ndexr-vignette.R'
ignored as vignettes have been rebuilt.
Run R CMD build with --no-build-vignettes to prevent rebuilding.
* excluding invalid files
Subdirectory 'R' contains invalid file names:
'ndex_api_config.yml'
* checking for LF line-endings in source and make files and shell scripts
* checking for empty or unneeded directories
* building 'ndexr_1.2.0.tar.gz'