| Back to Multiple platform build/check report for BioC 3.7 |
|
This page was generated on 2018-10-17 08:43:59 -0400 (Wed, 17 Oct 2018).
| Package 949/1561 | Hostname | OS / Arch | INSTALL | BUILD | CHECK | BUILD BIN | ||||||
| msgbsR 1.4.0 Benjamin Mayne
| malbec2 | Linux (Ubuntu 16.04.1 LTS) / x86_64 | OK | OK | WARNINGS | |||||||
| tokay2 | Windows Server 2012 R2 Standard / x64 | OK | OK | WARNINGS | [ OK ] | |||||||
| merida2 | OS X 10.11.6 El Capitan / x86_64 | OK | OK | WARNINGS | OK |
| Package: msgbsR |
| Version: 1.4.0 |
| Command: rm -rf msgbsR.buildbin-libdir && mkdir msgbsR.buildbin-libdir && C:\Users\biocbuild\bbs-3.7-bioc\R\bin\R.exe CMD INSTALL --merge-multiarch --build --library=msgbsR.buildbin-libdir msgbsR_1.4.0.tar.gz |
| StartedAt: 2018-10-17 06:42:25 -0400 (Wed, 17 Oct 2018) |
| EndedAt: 2018-10-17 06:43:24 -0400 (Wed, 17 Oct 2018) |
| EllapsedTime: 59.2 seconds |
| RetCode: 0 |
| Status: OK |
| PackageFile: msgbsR_1.4.0.zip |
| PackageFileSize: 15.58 MiB |
##############################################################################
##############################################################################
###
### Running command:
###
### rm -rf msgbsR.buildbin-libdir && mkdir msgbsR.buildbin-libdir && C:\Users\biocbuild\bbs-3.7-bioc\R\bin\R.exe CMD INSTALL --merge-multiarch --build --library=msgbsR.buildbin-libdir msgbsR_1.4.0.tar.gz
###
##############################################################################
##############################################################################
install for i386
* installing *source* package 'msgbsR' ...
** R
** data
** inst
** byte-compile and prepare package for lazy loading
** help
*** installing help indices
converting help for package 'msgbsR'
finding HTML links ... done
checkCuts html
cuts html
diffMeth html
msgbsR html
plotCircos html
plotCounts html
ratdata html
ratdata2 html
rawCounts html
** building package indices
** installing vignettes
** testing if installed package can be loaded
In R CMD INSTALL
install for x64
* installing *source* package 'msgbsR' ...
** testing if installed package can be loaded
* MD5 sums
packaged installation of 'msgbsR' as msgbsR_1.4.0.zip
* DONE (msgbsR)
In R CMD INSTALL
In R CMD INSTALL