| Back to Multiple platform build/check report for BioC 3.7 | 
 | 
This page was generated on 2018-10-17 08:58:15 -0400 (Wed, 17 Oct 2018).
| Package 949/1561 | Hostname | OS / Arch | INSTALL | BUILD | CHECK | BUILD BIN | ||||||
| msgbsR 1.4.0 Benjamin Mayne 
 | malbec2 | Linux (Ubuntu 16.04.1 LTS) / x86_64 | OK | OK | WARNINGS |  | ||||||
| tokay2 | Windows Server 2012 R2 Standard / x64 | OK | OK | WARNINGS | OK |  | ||||||
| merida2 | OS X 10.11.6 El Capitan / x86_64 | [ OK ] | OK | WARNINGS | OK |  | 
| Package: msgbsR | 
| Version: 1.4.0 | 
| Command: /Library/Frameworks/R.framework/Versions/Current/Resources/bin/R CMD INSTALL msgbsR | 
| StartedAt: 2018-10-16 16:09:50 -0400 (Tue, 16 Oct 2018) | 
| EndedAt: 2018-10-16 16:10:32 -0400 (Tue, 16 Oct 2018) | 
| EllapsedTime: 41.7 seconds | 
| RetCode: 0 | 
| Status: OK | 
############################################################################## ############################################################################## ### ### Running command: ### ### /Library/Frameworks/R.framework/Versions/Current/Resources/bin/R CMD INSTALL msgbsR ### ############################################################################## ############################################################################## * installing to library ‘/Library/Frameworks/R.framework/Versions/3.5/Resources/library’ * installing *source* package ‘msgbsR’ ... ** R ** data ** inst ** byte-compile and prepare package for lazy loading ** help *** installing help indices ** building package indices ** installing vignettes ** testing if installed package can be loaded * DONE (msgbsR)