| Back to Multiple platform build/check report for BioC 3.7 | 
 | 
This page was generated on 2018-10-17 08:39:00 -0400 (Wed, 17 Oct 2018).
| Package 867/1561 | Hostname | OS / Arch | INSTALL | BUILD | CHECK | BUILD BIN | ||||||
| metabomxtr 1.14.0 Michael Nodzenski 
 | malbec2 | Linux (Ubuntu 16.04.1 LTS) / x86_64 | OK | OK | OK |  | ||||||
| tokay2 | Windows Server 2012 R2 Standard / x64 | [ OK ] | OK | OK | OK |  | ||||||
| merida2 | OS X 10.11.6 El Capitan / x86_64 | OK | OK | OK | OK |  | 
| Package: metabomxtr | 
| Version: 1.14.0 | 
| Command: C:\cygwin\bin\curl.exe -O https://malbec2.bioconductor.org/BBS/3.7/bioc/src/contrib/metabomxtr_1.14.0.tar.gz && rm -rf metabomxtr.buildbin-libdir && mkdir metabomxtr.buildbin-libdir && C:\Users\biocbuild\bbs-3.7-bioc\R\bin\R.exe CMD INSTALL --merge-multiarch --build --library=metabomxtr.buildbin-libdir metabomxtr_1.14.0.tar.gz && C:\Users\biocbuild\bbs-3.7-bioc\R\bin\R.exe CMD INSTALL metabomxtr_1.14.0.zip && rm metabomxtr_1.14.0.tar.gz metabomxtr_1.14.0.zip | 
| StartedAt: 2018-10-16 19:08:29 -0400 (Tue, 16 Oct 2018) | 
| EndedAt: 2018-10-16 19:09:18 -0400 (Tue, 16 Oct 2018) | 
| EllapsedTime: 49.4 seconds | 
| RetCode: 0 | 
| Status: OK | 
##############################################################################
##############################################################################
###
### Running command:
###
###   C:\cygwin\bin\curl.exe -O https://malbec2.bioconductor.org/BBS/3.7/bioc/src/contrib/metabomxtr_1.14.0.tar.gz && rm -rf metabomxtr.buildbin-libdir && mkdir metabomxtr.buildbin-libdir && C:\Users\biocbuild\bbs-3.7-bioc\R\bin\R.exe CMD INSTALL --merge-multiarch --build --library=metabomxtr.buildbin-libdir metabomxtr_1.14.0.tar.gz && C:\Users\biocbuild\bbs-3.7-bioc\R\bin\R.exe CMD INSTALL metabomxtr_1.14.0.zip && rm metabomxtr_1.14.0.tar.gz metabomxtr_1.14.0.zip
###
##############################################################################
##############################################################################
  % Total    % Received % Xferd  Average Speed   Time    Time     Time  Current
                                 Dload  Upload   Total   Spent    Left  Speed
  0     0    0     0    0     0      0      0 --:--:-- --:--:-- --:--:--     0
100 60122  100 60122    0     0   988k      0 --:--:-- --:--:-- --:--:-- 1129k
install for i386
* installing *source* package 'metabomxtr' ...
** R
** data
** byte-compile and prepare package for lazy loading
** help
*** installing help indices
  converting help for package 'metabomxtr'
    finding HTML links ... done
    addBatchMeans                           html  
    addOutlierInfo                          html  
    allMissingLevels                        html  
    anyMissingLevels                        html  
    euMetabCData                            html  
    euMetabData                             html  
    idMissingLevels                         html  
    metabdata                               html  
    metabomxtr-package                      html  
    metabplot                               html  
    mixnorm                                 html  
    mxtrmod                                 html  
    mxtrmodLL                               html  
    mxtrmodLRT                              html  
    mxtrmodstart                            html  
    removeAllMissingCatVar                  html  
    removeMissingLevels                     html  
    runMxtrmod                              html  
    xdesign-methods                         html  
    yvals-methods                           html  
    zdesign-methods                         html  
** building package indices
** installing vignettes
** testing if installed package can be loaded
In R CMD INSTALL
install for x64
* installing *source* package 'metabomxtr' ...
** testing if installed package can be loaded
* MD5 sums
packaged installation of 'metabomxtr' as metabomxtr_1.14.0.zip
* DONE (metabomxtr)
In R CMD INSTALL
In R CMD INSTALL
* installing to library 'C:/Users/biocbuild/bbs-3.7-bioc/R/library'
package 'metabomxtr' successfully unpacked and MD5 sums checked
In R CMD INSTALL