| Back to Multiple platform build/check report for BioC 3.7 | 
 | 
This page was generated on 2018-10-17 08:53:20 -0400 (Wed, 17 Oct 2018).
| Package 867/1561 | Hostname | OS / Arch | INSTALL | BUILD | CHECK | BUILD BIN | ||||||
| metabomxtr 1.14.0 Michael Nodzenski 
 | malbec2 | Linux (Ubuntu 16.04.1 LTS) / x86_64 | OK | OK | OK |  | ||||||
| tokay2 | Windows Server 2012 R2 Standard / x64 | OK | OK | OK | OK |  | ||||||
| merida2 | OS X 10.11.6 El Capitan / x86_64 | OK | OK | OK | [ OK ] |  | 
| Package: metabomxtr | 
| Version: 1.14.0 | 
| Command: rm -rf metabomxtr.buildbin-libdir && mkdir metabomxtr.buildbin-libdir && /Users/biocbuild/BBS/utils/build-universal.sh metabomxtr_1.14.0.tar.gz /Library/Frameworks/R.framework/Versions/Current/Resources/bin/R metabomxtr.buildbin-libdir | 
| StartedAt: 2018-10-17 01:39:56 -0400 (Wed, 17 Oct 2018) | 
| EndedAt: 2018-10-17 01:40:42 -0400 (Wed, 17 Oct 2018) | 
| EllapsedTime: 46.7 seconds | 
| RetCode: 0 | 
| Status: OK | 
| PackageFile: metabomxtr_1.14.0.tgz | 
| PackageFileSize: 469 KiB | 
############################################################################## ############################################################################## ### ### Running command: ### ### rm -rf metabomxtr.buildbin-libdir && mkdir metabomxtr.buildbin-libdir && /Users/biocbuild/BBS/utils/build-universal.sh metabomxtr_1.14.0.tar.gz /Library/Frameworks/R.framework/Versions/Current/Resources/bin/R metabomxtr.buildbin-libdir ### ############################################################################## ############################################################################## >>>>>>> >>>>>>> INSTALLATION WITH 'R CMD INSTALL --preclean --no-multiarch --library=metabomxtr.buildbin-libdir metabomxtr_1.14.0.tar.gz' >>>>>>> * installing *source* package ‘metabomxtr’ ... ** R ** data ** inst ** byte-compile and prepare package for lazy loading ** help *** installing help indices ** building package indices ** installing vignettes ** testing if installed package can be loaded * DONE (metabomxtr)