| Back to Multiple platform build/check report for BioC 3.7 |
|
This page was generated on 2018-10-17 08:43:31 -0400 (Wed, 17 Oct 2018).
| Package 828/1561 | Hostname | OS / Arch | INSTALL | BUILD | CHECK | BUILD BIN | ||||||
| mapscape 1.4.0 Maia Smith
| malbec2 | Linux (Ubuntu 16.04.1 LTS) / x86_64 | OK | OK | WARNINGS | |||||||
| tokay2 | Windows Server 2012 R2 Standard / x64 | OK | [ OK ] | WARNINGS | OK | |||||||
| merida2 | OS X 10.11.6 El Capitan / x86_64 | OK | OK | WARNINGS | OK |
| Package: mapscape |
| Version: 1.4.0 |
| Command: chmod a+r mapscape -R && C:\Users\biocbuild\bbs-3.7-bioc\R\bin\R.exe CMD build --keep-empty-dirs --no-resave-data mapscape |
| StartedAt: 2018-10-16 23:36:53 -0400 (Tue, 16 Oct 2018) |
| EndedAt: 2018-10-16 23:37:25 -0400 (Tue, 16 Oct 2018) |
| EllapsedTime: 31.6 seconds |
| RetCode: 0 |
| Status: OK |
| PackageFile: mapscape_1.4.0.tar.gz |
| PackageFileSize: 4.794 MiB |
############################################################################## ############################################################################## ### ### Running command: ### ### chmod a+r mapscape -R && C:\Users\biocbuild\bbs-3.7-bioc\R\bin\R.exe CMD build --keep-empty-dirs --no-resave-data mapscape ### ############################################################################## ############################################################################## * checking for file 'mapscape/DESCRIPTION' ... OK * preparing 'mapscape': * checking DESCRIPTION meta-information ... OK * installing the package to build vignettes * creating vignettes ... OK * checking for LF line-endings in source and make files and shell scripts * checking for empty or unneeded directories * building 'mapscape_1.4.0.tar.gz'