| Back to Multiple platform build/check report for BioC 3.7 |
|
This page was generated on 2018-10-17 08:43:31 -0400 (Wed, 17 Oct 2018).
| Package 828/1561 | Hostname | OS / Arch | INSTALL | BUILD | CHECK | BUILD BIN | ||||||
| mapscape 1.4.0 Maia Smith
| malbec2 | Linux (Ubuntu 16.04.1 LTS) / x86_64 | OK | OK | WARNINGS | |||||||
| tokay2 | Windows Server 2012 R2 Standard / x64 | OK | OK | WARNINGS | [ OK ] | |||||||
| merida2 | OS X 10.11.6 El Capitan / x86_64 | OK | OK | WARNINGS | OK |
| Package: mapscape |
| Version: 1.4.0 |
| Command: rm -rf mapscape.buildbin-libdir && mkdir mapscape.buildbin-libdir && C:\Users\biocbuild\bbs-3.7-bioc\R\bin\R.exe CMD INSTALL --merge-multiarch --build --library=mapscape.buildbin-libdir mapscape_1.4.0.tar.gz |
| StartedAt: 2018-10-17 06:38:11 -0400 (Wed, 17 Oct 2018) |
| EndedAt: 2018-10-17 06:38:19 -0400 (Wed, 17 Oct 2018) |
| EllapsedTime: 8.0 seconds |
| RetCode: 0 |
| Status: OK |
| PackageFile: mapscape_1.4.0.zip |
| PackageFileSize: 4.138 MiB |
##############################################################################
##############################################################################
###
### Running command:
###
### rm -rf mapscape.buildbin-libdir && mkdir mapscape.buildbin-libdir && C:\Users\biocbuild\bbs-3.7-bioc\R\bin\R.exe CMD INSTALL --merge-multiarch --build --library=mapscape.buildbin-libdir mapscape_1.4.0.tar.gz
###
##############################################################################
##############################################################################
install for i386
* installing *source* package 'mapscape' ...
** R
** inst
** byte-compile and prepare package for lazy loading
** help
*** installing help indices
converting help for package 'mapscape'
finding HTML links ... done
helpers html
mapscape html
** building package indices
** installing vignettes
** testing if installed package can be loaded
In R CMD INSTALL
install for x64
* installing *source* package 'mapscape' ...
** testing if installed package can be loaded
* MD5 sums
packaged installation of 'mapscape' as mapscape_1.4.0.zip
* DONE (mapscape)
In R CMD INSTALL
In R CMD INSTALL