| Back to Multiple platform build/check report for BioC 3.7 |
|
This page was generated on 2018-10-17 08:53:14 -0400 (Wed, 17 Oct 2018).
| Package 947/1561 | Hostname | OS / Arch | INSTALL | BUILD | CHECK | BUILD BIN | ||||||
| mQTL.NMR 1.14.0 Lyamine Hedjazi
| malbec2 | Linux (Ubuntu 16.04.1 LTS) / x86_64 | ERROR | ERROR | skipped | |||||||
| tokay2 | Windows Server 2012 R2 Standard / x64 | ERROR | ERROR | skipped | skipped | |||||||
| merida2 | OS X 10.11.6 El Capitan / x86_64 | ERROR | [ ERROR ] | skipped | skipped |
| Package: mQTL.NMR |
| Version: 1.14.0 |
| Command: /Library/Frameworks/R.framework/Versions/Current/Resources/bin/R CMD build --keep-empty-dirs --no-resave-data mQTL.NMR |
| StartedAt: 2018-10-16 17:31:27 -0400 (Tue, 16 Oct 2018) |
| EndedAt: 2018-10-16 17:31:30 -0400 (Tue, 16 Oct 2018) |
| EllapsedTime: 3.6 seconds |
| RetCode: 1 |
| Status: ERROR |
| PackageFile: None |
| PackageFileSize: NA |
##############################################################################
##############################################################################
###
### Running command:
###
### /Library/Frameworks/R.framework/Versions/Current/Resources/bin/R CMD build --keep-empty-dirs --no-resave-data mQTL.NMR
###
##############################################################################
##############################################################################
* checking for file ‘mQTL.NMR/DESCRIPTION’ ... OK
* preparing ‘mQTL.NMR’:
* checking DESCRIPTION meta-information ... OK
* installing the package to build vignettes
-----------------------------------
ERROR: dependency ‘GenABEL’ is not available for package ‘mQTL.NMR’
* removing ‘/private/tmp/Rtmps0nMX9/Rinst1fee181fdf6a/mQTL.NMR’
-----------------------------------
ERROR: package installation failed