| Back to Multiple platform build/check report for BioC 3.7 |
|
This page was generated on 2018-10-17 08:26:24 -0400 (Wed, 17 Oct 2018).
| Package 947/1561 | Hostname | OS / Arch | INSTALL | BUILD | CHECK | BUILD BIN | ||||||
| mQTL.NMR 1.14.0 Lyamine Hedjazi
| malbec2 | Linux (Ubuntu 16.04.1 LTS) / x86_64 | ERROR | [ ERROR ] | skipped | |||||||
| tokay2 | Windows Server 2012 R2 Standard / x64 | ERROR | ERROR | skipped | skipped | |||||||
| merida2 | OS X 10.11.6 El Capitan / x86_64 | ERROR | ERROR | skipped | skipped |
| Package: mQTL.NMR |
| Version: 1.14.0 |
| Command: /home/biocbuild/bbs-3.7-bioc/R/bin/R CMD build --keep-empty-dirs --no-resave-data mQTL.NMR |
| StartedAt: 2018-10-15 20:07:50 -0400 (Mon, 15 Oct 2018) |
| EndedAt: 2018-10-15 20:07:51 -0400 (Mon, 15 Oct 2018) |
| EllapsedTime: 1.0 seconds |
| RetCode: 1 |
| Status: ERROR |
| PackageFile: None |
| PackageFileSize: NA |
##############################################################################
##############################################################################
###
### Running command:
###
### /home/biocbuild/bbs-3.7-bioc/R/bin/R CMD build --keep-empty-dirs --no-resave-data mQTL.NMR
###
##############################################################################
##############################################################################
* checking for file ‘mQTL.NMR/DESCRIPTION’ ... OK
* preparing ‘mQTL.NMR’:
* checking DESCRIPTION meta-information ... OK
* installing the package to build vignettes
-----------------------------------
ERROR: dependency ‘GenABEL’ is not available for package ‘mQTL.NMR’
* removing ‘/tmp/RtmpRdSxuK/Rinst5f44621db104/mQTL.NMR’
-----------------------------------
ERROR: package installation failed