| Back to Multiple platform build/check report for BioC 3.7 |
|
This page was generated on 2018-10-17 08:35:32 -0400 (Wed, 17 Oct 2018).
| Package 699/1561 | Hostname | OS / Arch | INSTALL | BUILD | CHECK | BUILD BIN | ||||||
| htSeqTools 1.28.3 Oscar Reina
| malbec2 | Linux (Ubuntu 16.04.1 LTS) / x86_64 | OK | OK | WARNINGS | |||||||
| tokay2 | Windows Server 2012 R2 Standard / x64 | [ OK ] | OK | WARNINGS | OK | |||||||
| merida2 | OS X 10.11.6 El Capitan / x86_64 | OK | OK | WARNINGS | OK |
| Package: htSeqTools |
| Version: 1.28.3 |
| Command: C:\cygwin\bin\curl.exe -O https://malbec2.bioconductor.org/BBS/3.7/bioc/src/contrib/htSeqTools_1.28.3.tar.gz && rm -rf htSeqTools.buildbin-libdir && mkdir htSeqTools.buildbin-libdir && C:\Users\biocbuild\bbs-3.7-bioc\R\bin\R.exe CMD INSTALL --merge-multiarch --build --library=htSeqTools.buildbin-libdir htSeqTools_1.28.3.tar.gz && C:\Users\biocbuild\bbs-3.7-bioc\R\bin\R.exe CMD INSTALL htSeqTools_1.28.3.zip && rm htSeqTools_1.28.3.tar.gz htSeqTools_1.28.3.zip |
| StartedAt: 2018-10-16 20:08:26 -0400 (Tue, 16 Oct 2018) |
| EndedAt: 2018-10-16 20:09:45 -0400 (Tue, 16 Oct 2018) |
| EllapsedTime: 78.7 seconds |
| RetCode: 0 |
| Status: OK |
##############################################################################
##############################################################################
###
### Running command:
###
### C:\cygwin\bin\curl.exe -O https://malbec2.bioconductor.org/BBS/3.7/bioc/src/contrib/htSeqTools_1.28.3.tar.gz && rm -rf htSeqTools.buildbin-libdir && mkdir htSeqTools.buildbin-libdir && C:\Users\biocbuild\bbs-3.7-bioc\R\bin\R.exe CMD INSTALL --merge-multiarch --build --library=htSeqTools.buildbin-libdir htSeqTools_1.28.3.tar.gz && C:\Users\biocbuild\bbs-3.7-bioc\R\bin\R.exe CMD INSTALL htSeqTools_1.28.3.zip && rm htSeqTools_1.28.3.tar.gz htSeqTools_1.28.3.zip
###
##############################################################################
##############################################################################
% Total % Received % Xferd Average Speed Time Time Time Current
Dload Upload Total Spent Left Speed
0 0 0 0 0 0 0 0 --:--:-- --:--:-- --:--:-- 0
100 1506k 100 1506k 0 0 24.0M 0 --:--:-- --:--:-- --:--:-- 26.7M
install for i386
* installing *source* package 'htSeqTools' ...
** R
** data
** inst
** byte-compile and prepare package for lazy loading
Note: possible error in 'countHitsWindow(x, chrLengths = chrLengths, ': unused argument (chrLengths = chrLengths)
Note: possible error in 'countHitsWindow(x, chrLengths = chrLengths, ': unused argument (chrLengths = chrLengths)
Note: possible error in 'countHitsWindow(x, chrLengths = chrLengths, ': unused argument (chrLengths = chrLengths)
Note: possible error in 'extendRanges(x, seqLen = seqLen, ': unused argument (chrLength = chrLength)
Note: possible error in 'extendRanges(x, seqLen = seqLen, ': unused argument (chrLength = chrLength)
Note: possible error in 'extendRanges(x, seqLen = seqLen, ': unused argument (chrLength = chrLength)
Note: possible error in 'extendRanges(x, seqLen = seqLen, ': unused argument (chrLength = chrLength)
Note: possible error in 'extendRanges(x, seqLen = seqLen, ': unused argument (chrLength = chrLength)
Note: possible error in 'extendRanges(x, seqLen = seqLen, ': unused argument (chrLength = chrLength)
** help
*** installing help indices
converting help for package 'htSeqTools'
finding HTML links ... done
alignPeaks html
cmds html
cmdsFit-class html
cmdsFit html
countHitsWindow html
coverageDiff html
enrichedChrRegions html
enrichedPeaks html
enrichedRegions html
extendRanges html
fdrEnrichedCounts html
filterDuplReads html
findPeakHeight html
giniCoverage html
gridCover-class html
htSample html
islandCounts html
listOverlap html
mergeRegions html
plot-methods html
plotChrRegions html
regionsCoverage html
rowLogRegLRT html
ssdCoverage html
stdPeakLocation html
** building package indices
** installing vignettes
** testing if installed package can be loaded
In R CMD INSTALL
install for x64
* installing *source* package 'htSeqTools' ...
** testing if installed package can be loaded
* MD5 sums
packaged installation of 'htSeqTools' as htSeqTools_1.28.3.zip
* DONE (htSeqTools)
In R CMD INSTALL
In R CMD INSTALL
* installing to library 'C:/Users/biocbuild/bbs-3.7-bioc/R/library'
package 'htSeqTools' successfully unpacked and MD5 sums checked
In R CMD INSTALL