| Back to Multiple platform build/check report for BioC 3.7 |
|
This page was generated on 2018-10-17 08:35:32 -0400 (Wed, 17 Oct 2018).
| Package 699/1561 | Hostname | OS / Arch | INSTALL | BUILD | CHECK | BUILD BIN | ||||||
| htSeqTools 1.28.3 Oscar Reina
| malbec2 | Linux (Ubuntu 16.04.1 LTS) / x86_64 | OK | OK | WARNINGS | |||||||
| tokay2 | Windows Server 2012 R2 Standard / x64 | OK | OK | WARNINGS | [ OK ] | |||||||
| merida2 | OS X 10.11.6 El Capitan / x86_64 | OK | OK | WARNINGS | OK |
| Package: htSeqTools |
| Version: 1.28.3 |
| Command: rm -rf htSeqTools.buildbin-libdir && mkdir htSeqTools.buildbin-libdir && C:\Users\biocbuild\bbs-3.7-bioc\R\bin\R.exe CMD INSTALL --merge-multiarch --build --library=htSeqTools.buildbin-libdir htSeqTools_1.28.3.tar.gz |
| StartedAt: 2018-10-17 06:31:31 -0400 (Wed, 17 Oct 2018) |
| EndedAt: 2018-10-17 06:33:34 -0400 (Wed, 17 Oct 2018) |
| EllapsedTime: 123.1 seconds |
| RetCode: 0 |
| Status: OK |
| PackageFile: htSeqTools_1.28.3.zip |
| PackageFileSize: 1.935 MiB |
##############################################################################
##############################################################################
###
### Running command:
###
### rm -rf htSeqTools.buildbin-libdir && mkdir htSeqTools.buildbin-libdir && C:\Users\biocbuild\bbs-3.7-bioc\R\bin\R.exe CMD INSTALL --merge-multiarch --build --library=htSeqTools.buildbin-libdir htSeqTools_1.28.3.tar.gz
###
##############################################################################
##############################################################################
install for i386
* installing *source* package 'htSeqTools' ...
** R
** data
** inst
** byte-compile and prepare package for lazy loading
Note: possible error in 'countHitsWindow(x, chrLengths = chrLengths, ': unused argument (chrLengths = chrLengths)
Note: possible error in 'countHitsWindow(x, chrLengths = chrLengths, ': unused argument (chrLengths = chrLengths)
Note: possible error in 'countHitsWindow(x, chrLengths = chrLengths, ': unused argument (chrLengths = chrLengths)
Note: possible error in 'extendRanges(x, seqLen = seqLen, ': unused argument (chrLength = chrLength)
Note: possible error in 'extendRanges(x, seqLen = seqLen, ': unused argument (chrLength = chrLength)
Note: possible error in 'extendRanges(x, seqLen = seqLen, ': unused argument (chrLength = chrLength)
Note: possible error in 'extendRanges(x, seqLen = seqLen, ': unused argument (chrLength = chrLength)
Note: possible error in 'extendRanges(x, seqLen = seqLen, ': unused argument (chrLength = chrLength)
Note: possible error in 'extendRanges(x, seqLen = seqLen, ': unused argument (chrLength = chrLength)
** help
*** installing help indices
converting help for package 'htSeqTools'
finding HTML links ... done
alignPeaks html
cmds html
cmdsFit-class html
cmdsFit html
countHitsWindow html
coverageDiff html
enrichedChrRegions html
enrichedPeaks html
enrichedRegions html
extendRanges html
fdrEnrichedCounts html
filterDuplReads html
findPeakHeight html
giniCoverage html
gridCover-class html
htSample html
islandCounts html
listOverlap html
mergeRegions html
plot-methods html
plotChrRegions html
regionsCoverage html
rowLogRegLRT html
ssdCoverage html
stdPeakLocation html
** building package indices
** installing vignettes
** testing if installed package can be loaded
In R CMD INSTALL
install for x64
* installing *source* package 'htSeqTools' ...
** testing if installed package can be loaded
* MD5 sums
packaged installation of 'htSeqTools' as htSeqTools_1.28.3.zip
* DONE (htSeqTools)
In R CMD INSTALL
In R CMD INSTALL