| Back to Multiple platform build/check report for BioC 3.7 |
|
This page was generated on 2018-10-17 08:40:45 -0400 (Wed, 17 Oct 2018).
| Package 482/1561 | Hostname | OS / Arch | INSTALL | BUILD | CHECK | BUILD BIN | ||||||
| fCI 1.10.0 Shaojun Tang
| malbec2 | Linux (Ubuntu 16.04.1 LTS) / x86_64 | OK | OK | OK | |||||||
| tokay2 | Windows Server 2012 R2 Standard / x64 | OK | OK | OK | [ OK ] | |||||||
| merida2 | OS X 10.11.6 El Capitan / x86_64 | OK | OK | WARNINGS | OK |
| Package: fCI |
| Version: 1.10.0 |
| Command: rm -rf fCI.buildbin-libdir && mkdir fCI.buildbin-libdir && C:\Users\biocbuild\bbs-3.7-bioc\R\bin\R.exe CMD INSTALL --merge-multiarch --build --library=fCI.buildbin-libdir fCI_1.10.0.tar.gz |
| StartedAt: 2018-10-17 06:19:15 -0400 (Wed, 17 Oct 2018) |
| EndedAt: 2018-10-17 06:19:28 -0400 (Wed, 17 Oct 2018) |
| EllapsedTime: 12.4 seconds |
| RetCode: 0 |
| Status: OK |
| PackageFile: fCI_1.10.0.zip |
| PackageFileSize: 1.329 MiB |
##############################################################################
##############################################################################
###
### Running command:
###
### rm -rf fCI.buildbin-libdir && mkdir fCI.buildbin-libdir && C:\Users\biocbuild\bbs-3.7-bioc\R\bin\R.exe CMD INSTALL --merge-multiarch --build --library=fCI.buildbin-libdir fCI_1.10.0.tar.gz
###
##############################################################################
##############################################################################
install for i386
* installing *source* package 'fCI' ...
** R
** data
** inst
** byte-compile and prepare package for lazy loading
in method for 'initialize' with signature '"NPCI"': no definition for class "NPCI"
in method for 'normalization' with signature '"NPCI"': no definition for class "NPCI"
in method for 'setfCI' with signature '"NPCI"': no definition for class "NPCI"
in method for 'populate' with signature '"NPCI"': no definition for class "NPCI"
in method for 'find.fci.targets' with signature '"NPCI"': no definition for class "NPCI"
in method for 'show.targets' with signature '"NPCI"': no definition for class "NPCI"
in method for 'call.npci' with signature '"NPCI"': no definition for class "NPCI"
in method for 'compute' with signature '"NPCI"': no definition for class "NPCI"
** help
*** installing help indices
converting help for package 'fCI'
finding HTML links ... done
NPCI-class html
call.npci-methods html
call.npci html
compute-methods html
compute html
deg.pairwise.fold.change html
deg.up.down.info html
deseq.median.ratio.normalization html
divergence.multivariate.distributions html
fCI-class html
fCI.call.by.index html
fci.data html
figures-methods html
figures html
find.fci.targets-methods html
find.fci.targets html
find.mid.point html
get.fold.large.step html
get.npci.data html
get.npci.distance.matrix html
get.outline.index html
get.protein.fold.step html
get.rank.combinations html
get.rna.fold.step html
initialize-methods html
intersect.of.lists html
is.installed html
multi.dimensional.fci.data html
normalization-methods html
normalization html
npci.gene.by.pvalues html
npci.index.reconsidered html
npci.index.to.be.removed html
npci.venn.diagram html
pairwise.change.occupancy html
populate-methods html
populate html
report.target.summary html
setfCI-methods html
setfCI html
show.targets-methods html
show.targets html
summarize-methods html
summarize html
total.library.size.normalization html
trim.size.normalization html
two.sample.log.ratio html
two.sample.permutation.test html
venndiagram-methods html
venndiagram html
** building package indices
** installing vignettes
** testing if installed package can be loaded
In R CMD INSTALL
install for x64
* installing *source* package 'fCI' ...
** testing if installed package can be loaded
* MD5 sums
packaged installation of 'fCI' as fCI_1.10.0.zip
* DONE (fCI)
In R CMD INSTALL
In R CMD INSTALL