| Back to Multiple platform build/check report for BioC 3.7 |
|
This page was generated on 2018-10-17 08:55:01 -0400 (Wed, 17 Oct 2018).
| Package 482/1561 | Hostname | OS / Arch | INSTALL | BUILD | CHECK | BUILD BIN | ||||||
| fCI 1.10.0 Shaojun Tang
| malbec2 | Linux (Ubuntu 16.04.1 LTS) / x86_64 | OK | OK | OK | |||||||
| tokay2 | Windows Server 2012 R2 Standard / x64 | OK | OK | OK | OK | |||||||
| merida2 | OS X 10.11.6 El Capitan / x86_64 | OK | OK | WARNINGS | [ OK ] |
| Package: fCI |
| Version: 1.10.0 |
| Command: rm -rf fCI.buildbin-libdir && mkdir fCI.buildbin-libdir && /Users/biocbuild/BBS/utils/build-universal.sh fCI_1.10.0.tar.gz /Library/Frameworks/R.framework/Versions/Current/Resources/bin/R fCI.buildbin-libdir |
| StartedAt: 2018-10-17 01:18:46 -0400 (Wed, 17 Oct 2018) |
| EndedAt: 2018-10-17 01:19:35 -0400 (Wed, 17 Oct 2018) |
| EllapsedTime: 49.7 seconds |
| RetCode: 0 |
| Status: OK |
| PackageFile: fCI_1.10.0.tgz |
| PackageFileSize: 1.588 MiB |
############################################################################## ############################################################################## ### ### Running command: ### ### rm -rf fCI.buildbin-libdir && mkdir fCI.buildbin-libdir && /Users/biocbuild/BBS/utils/build-universal.sh fCI_1.10.0.tar.gz /Library/Frameworks/R.framework/Versions/Current/Resources/bin/R fCI.buildbin-libdir ### ############################################################################## ############################################################################## >>>>>>> >>>>>>> INSTALLATION WITH 'R CMD INSTALL --preclean --no-multiarch --library=fCI.buildbin-libdir fCI_1.10.0.tar.gz' >>>>>>> * installing *source* package ‘fCI’ ... ** R ** data ** inst ** byte-compile and prepare package for lazy loading Warning in rgl.init(initValue, onlyNULL) : RGL: GLX extension missing on server Warning: 'rgl_init' failed, running with rgl.useNULL = TRUE in method for ‘initialize’ with signature ‘"NPCI"’: no definition for class “NPCI” in method for ‘normalization’ with signature ‘"NPCI"’: no definition for class “NPCI” in method for ‘setfCI’ with signature ‘"NPCI"’: no definition for class “NPCI” in method for ‘populate’ with signature ‘"NPCI"’: no definition for class “NPCI” in method for ‘find.fci.targets’ with signature ‘"NPCI"’: no definition for class “NPCI” in method for ‘show.targets’ with signature ‘"NPCI"’: no definition for class “NPCI” in method for ‘call.npci’ with signature ‘"NPCI"’: no definition for class “NPCI” in method for ‘compute’ with signature ‘"NPCI"’: no definition for class “NPCI” ** help *** installing help indices ** building package indices ** installing vignettes ** testing if installed package can be loaded Warning in rgl.init(initValue, onlyNULL) : RGL: GLX extension missing on server Warning: 'rgl_init' failed, running with rgl.useNULL = TRUE * DONE (fCI)