| Back to Multiple platform build/check report for BioC 3.7 |
|
This page was generated on 2018-10-17 08:45:17 -0400 (Wed, 17 Oct 2018).
| Package 448/1561 | Hostname | OS / Arch | INSTALL | BUILD | CHECK | BUILD BIN | ||||||
| enrichplot 1.0.2 Guangchuang Yu
| malbec2 | Linux (Ubuntu 16.04.1 LTS) / x86_64 | OK | OK | OK | |||||||
| tokay2 | Windows Server 2012 R2 Standard / x64 | [ OK ] | OK | OK | OK | |||||||
| merida2 | OS X 10.11.6 El Capitan / x86_64 | OK | OK | OK | OK |
| Package: enrichplot |
| Version: 1.0.2 |
| Command: C:\cygwin\bin\curl.exe -O https://malbec2.bioconductor.org/BBS/3.7/bioc/src/contrib/enrichplot_1.0.2.tar.gz && rm -rf enrichplot.buildbin-libdir && mkdir enrichplot.buildbin-libdir && C:\Users\biocbuild\bbs-3.7-bioc\R\bin\R.exe CMD INSTALL --merge-multiarch --build --library=enrichplot.buildbin-libdir enrichplot_1.0.2.tar.gz && C:\Users\biocbuild\bbs-3.7-bioc\R\bin\R.exe CMD INSTALL enrichplot_1.0.2.zip && rm enrichplot_1.0.2.tar.gz enrichplot_1.0.2.zip |
| StartedAt: 2018-10-16 20:12:05 -0400 (Tue, 16 Oct 2018) |
| EndedAt: 2018-10-16 20:15:04 -0400 (Tue, 16 Oct 2018) |
| EllapsedTime: 179.2 seconds |
| RetCode: 0 |
| Status: OK |
##############################################################################
##############################################################################
###
### Running command:
###
### C:\cygwin\bin\curl.exe -O https://malbec2.bioconductor.org/BBS/3.7/bioc/src/contrib/enrichplot_1.0.2.tar.gz && rm -rf enrichplot.buildbin-libdir && mkdir enrichplot.buildbin-libdir && C:\Users\biocbuild\bbs-3.7-bioc\R\bin\R.exe CMD INSTALL --merge-multiarch --build --library=enrichplot.buildbin-libdir enrichplot_1.0.2.tar.gz && C:\Users\biocbuild\bbs-3.7-bioc\R\bin\R.exe CMD INSTALL enrichplot_1.0.2.zip && rm enrichplot_1.0.2.tar.gz enrichplot_1.0.2.zip
###
##############################################################################
##############################################################################
% Total % Received % Xferd Average Speed Time Time Time Current
Dload Upload Total Spent Left Speed
0 0 0 0 0 0 0 0 --:--:-- --:--:-- --:--:-- 0
100 21003 100 21003 0 0 340k 0 --:--:-- --:--:-- --:--:-- 379k
install for i386
* installing *source* package 'enrichplot' ...
** R
** byte-compile and prepare package for lazy loading
** help
*** installing help indices
converting help for package 'enrichplot'
finding HTML links ... done
barplot.enrichResult html
cnetplot html
color_palette html
dotplot html
emapplot html
fortify.enrichResult html
goplot html
gsInfo html
gseaplot html
heatplot html
list2graph html
ridgeplot html
upsetplot-methods html
** building package indices
** installing vignettes
** testing if installed package can be loaded
In R CMD INSTALL
install for x64
* installing *source* package 'enrichplot' ...
** testing if installed package can be loaded
* MD5 sums
packaged installation of 'enrichplot' as enrichplot_1.0.2.zip
* DONE (enrichplot)
In R CMD INSTALL
In R CMD INSTALL
* installing to library 'C:/Users/biocbuild/bbs-3.7-bioc/R/library'
package 'enrichplot' successfully unpacked and MD5 sums checked
In R CMD INSTALL