| Back to Multiple platform build/check report for BioC 3.7 | 
  | 
This page was generated on 2018-10-17 08:51:33 -0400 (Wed, 17 Oct 2018).
| Package 257/1561 | Hostname | OS / Arch | INSTALL | BUILD | CHECK | BUILD BIN | ||||||
| clonotypeR 1.18.0 Charles Plessy 
  | malbec2 | Linux (Ubuntu 16.04.1 LTS) / x86_64 | OK | OK | OK | |||||||
| tokay2 | Windows Server 2012 R2 Standard / x64 | OK | OK | OK | OK | |||||||
| merida2 | OS X 10.11.6 El Capitan / x86_64 | OK | [ OK ] | OK | OK | 
| Package: clonotypeR | 
| Version: 1.18.0 | 
| Command: /Library/Frameworks/R.framework/Versions/Current/Resources/bin/R CMD build --keep-empty-dirs --no-resave-data clonotypeR | 
| StartedAt: 2018-10-16 17:15:33 -0400 (Tue, 16 Oct 2018) | 
| EndedAt: 2018-10-16 17:15:37 -0400 (Tue, 16 Oct 2018) | 
| EllapsedTime: 3.7 seconds | 
| RetCode: 0 | 
| Status: OK | 
| PackageFile: clonotypeR_1.18.0.tar.gz | 
| PackageFileSize: 116.1 KiB | 
############################################################################## ############################################################################## ### ### Running command: ### ### /Library/Frameworks/R.framework/Versions/Current/Resources/bin/R CMD build --keep-empty-dirs --no-resave-data clonotypeR ### ############################################################################## ############################################################################## * checking for file ‘clonotypeR/DESCRIPTION’ ... OK * preparing ‘clonotypeR’: * checking DESCRIPTION meta-information ... OK * installing the package to build vignettes * creating vignettes ... OK * checking for LF line-endings in source and make files and shell scripts * checking for empty or unneeded directories * building ‘clonotypeR_1.18.0.tar.gz’