| Back to Multiple platform build/check report for BioC 3.7 | 
  | 
This page was generated on 2018-10-17 08:51:33 -0400 (Wed, 17 Oct 2018).
| Package 257/1561 | Hostname | OS / Arch | INSTALL | BUILD | CHECK | BUILD BIN | ||||||
| clonotypeR 1.18.0 Charles Plessy 
  | malbec2 | Linux (Ubuntu 16.04.1 LTS) / x86_64 | OK | OK | OK | |||||||
| tokay2 | Windows Server 2012 R2 Standard / x64 | OK | OK | OK | OK | |||||||
| merida2 | OS X 10.11.6 El Capitan / x86_64 | OK | OK | OK | [ OK ] | 
| Package: clonotypeR | 
| Version: 1.18.0 | 
| Command: rm -rf clonotypeR.buildbin-libdir && mkdir clonotypeR.buildbin-libdir && /Users/biocbuild/BBS/utils/build-universal.sh clonotypeR_1.18.0.tar.gz /Library/Frameworks/R.framework/Versions/Current/Resources/bin/R clonotypeR.buildbin-libdir | 
| StartedAt: 2018-10-17 01:06:27 -0400 (Wed, 17 Oct 2018) | 
| EndedAt: 2018-10-17 01:07:18 -0400 (Wed, 17 Oct 2018) | 
| EllapsedTime: 50.6 seconds | 
| RetCode: 0 | 
| Status: OK | 
| PackageFile: clonotypeR_1.18.0.tgz | 
| PackageFileSize: 145.1 KiB | 
############################################################################## ############################################################################## ### ### Running command: ### ### rm -rf clonotypeR.buildbin-libdir && mkdir clonotypeR.buildbin-libdir && /Users/biocbuild/BBS/utils/build-universal.sh clonotypeR_1.18.0.tar.gz /Library/Frameworks/R.framework/Versions/Current/Resources/bin/R clonotypeR.buildbin-libdir ### ############################################################################## ############################################################################## >>>>>>> >>>>>>> INSTALLATION WITH 'R CMD INSTALL --preclean --no-multiarch --library=clonotypeR.buildbin-libdir clonotypeR_1.18.0.tar.gz' >>>>>>> * installing *source* package ‘clonotypeR’ ... ** R ** inst ** byte-compile and prepare package for lazy loading ** help *** installing help indices ** building package indices ** installing vignettes ** testing if installed package can be loaded * DONE (clonotypeR)